BEGIN:VCALENDAR
VERSION:2.0
PRODID:-//Spółdzielnia Mieszkaniowa Osiedle Młodych - ECPv5.16.4//NONSGML v1.0//EN
CALSCALE:GREGORIAN
METHOD:PUBLISH
X-WR-CALNAME:Spółdzielnia Mieszkaniowa Osiedle Młodych
X-ORIGINAL-URL:https://osiedlemlodych.pl
X-WR-CALDESC:Wydarzenia dla Spółdzielnia Mieszkaniowa Osiedle Młodych
BEGIN:VTIMEZONE
TZID:Europe/Warsaw
BEGIN:DAYLIGHT
TZOFFSETFROM:+0100
TZOFFSETTO:+0200
TZNAME:CEST
DTSTART:20230326T010000
END:DAYLIGHT
BEGIN:STANDARD
TZOFFSETFROM:+0200
TZOFFSETTO:+0100
TZNAME:CET
DTSTART:20231029T010000
END:STANDARD
END:VTIMEZONE
BEGIN:VEVENT
DTSTART;TZID=Europe/Warsaw:20231022T160000
DTEND;TZID=Europe/Warsaw:20231022T173000
DTSTAMP:20260421T134233
CREATED:20230913T145634Z
LAST-MODIFIED:20230913T145906Z
UID:42740-1697990400-1697995800@osiedlemlodych.pl
SUMMARY:Scena Na Pięterku: Koncert "Zaczarowany świat operetek i musicali" w wykonaniu Agnieszki Wawrzyniak i Klaudiusza Kapłona
DESCRIPTION:Przed Państwem jesienna odsłona Sceny Na Pięterku! \nZachęcamy do wzięcia udziału w koncercie „Zaczarowany świat operetek i musicali”. Swoimi magicznymi głosami oczarują nas artyści scen poznańskich: Agnieszka Wawrzyniak i Klaudiusz Kapłon. \nBilety można kupić od 25 września w DK „Na Pięterku” (od poniedziałku do piątku od 15:00 do 20:00).
URL:https://osiedlemlodych.pl/wydarzenia/scena-na-pieterku-koncert-zaczarowany-swiat-operetek-i-musicali-w-wykonaniu-agnieszki-wawrzyniak-i-klaudiusza-kaplona/
LOCATION:DK „Na Pięterku”\, os. Orła Białego 5\, Poznań
CATEGORIES:Na pięterku
ATTACH;FMTTYPE=image/jpeg:https://osiedlemlodych.pl/wp-content/uploads/2023/09/zamknij-sie-z-mikrofonu-na-scenie-koncertowej-z-pieknym-oswietleniem.jpg
END:VEVENT
END:VCALENDAR