BEGIN:VCALENDAR
VERSION:2.0
PRODID:-//Spółdzielnia Mieszkaniowa Osiedle Młodych - ECPv5.16.4//NONSGML v1.0//EN
CALSCALE:GREGORIAN
METHOD:PUBLISH
X-WR-CALNAME:Spółdzielnia Mieszkaniowa Osiedle Młodych
X-ORIGINAL-URL:https://osiedlemlodych.pl
X-WR-CALDESC:Wydarzenia dla Spółdzielnia Mieszkaniowa Osiedle Młodych
BEGIN:VTIMEZONE
TZID:Europe/Warsaw
BEGIN:DAYLIGHT
TZOFFSETFROM:+0100
TZOFFSETTO:+0200
TZNAME:CEST
DTSTART:20230326T010000
END:DAYLIGHT
BEGIN:STANDARD
TZOFFSETFROM:+0200
TZOFFSETTO:+0100
TZNAME:CET
DTSTART:20231029T010000
END:STANDARD
END:VTIMEZONE
BEGIN:VEVENT
DTSTART;TZID=Europe/Warsaw:20231027T170000
DTEND;TZID=Europe/Warsaw:20231027T200000
DTSTAMP:20260422T034632
CREATED:20231011T102339Z
LAST-MODIFIED:20231017T073715Z
UID:43202-1698426000-1698436800@osiedlemlodych.pl
SUMMARY:Senioralna Biesiada Jesienna cz.2
DESCRIPTION:Serdecznie zapraszamy do wspólnego podziwiania barw jesieni w miłym\, senioralnym gronie. 👵👴 \nPaździernik to miesiąc Seniorów\, zatem okazja jest podwójna 😉 \nWstęp na spotkanie jest wolny\, jednak obowiązują zapisy pod numerem telefonu: 504 387 509. \nProsimy\, przekażcie to zaproszenie poza internet wszystkim znanym Wam Seniorom! \n  \nZapraszamy! 💟 \n  \nP.S. Relacja z pierwszej w tym roku Senioralnej Biesiady Jesiennej:
URL:https://osiedlemlodych.pl/wydarzenia/senioralna-biesiada-jesienna/
LOCATION:Klub „Cybinka”\, ul. Warszawska 93/95\, Poznań\, Wielkopolska\, 61-031\, Poland
CATEGORIES:Klub Cybinka
ATTACH;FMTTYPE=image/jpeg:https://osiedlemlodych.pl/wp-content/uploads/2023/10/senioralna-biesiada-jesienna-www-kafelek.jpg
ORGANIZER;CN="Klub%20%22Cybinka%22":MAILTO:cybinka@osiedlemlodych.pl
END:VEVENT
END:VCALENDAR