BEGIN:VCALENDAR
VERSION:2.0
PRODID:-//Spółdzielnia Mieszkaniowa Osiedle Młodych - ECPv5.16.4//NONSGML v1.0//EN
CALSCALE:GREGORIAN
METHOD:PUBLISH
X-WR-CALNAME:Spółdzielnia Mieszkaniowa Osiedle Młodych
X-ORIGINAL-URL:https://osiedlemlodych.pl
X-WR-CALDESC:Wydarzenia dla Spółdzielnia Mieszkaniowa Osiedle Młodych
BEGIN:VTIMEZONE
TZID:Europe/Warsaw
BEGIN:DAYLIGHT
TZOFFSETFROM:+0100
TZOFFSETTO:+0200
TZNAME:CEST
DTSTART:20220327T010000
END:DAYLIGHT
BEGIN:STANDARD
TZOFFSETFROM:+0200
TZOFFSETTO:+0100
TZNAME:CET
DTSTART:20221030T010000
END:STANDARD
END:VTIMEZONE
BEGIN:VEVENT
DTSTART;TZID=Europe/Warsaw:20220429T170000
DTEND;TZID=Europe/Warsaw:20220429T170000
DTSTAMP:20260422T020543
CREATED:20220311T183608Z
LAST-MODIFIED:20220311T183608Z
UID:33691-1651251600-1651251600@osiedlemlodych.pl
SUMMARY:SeniorStarcie przy Warcie - VI przegląd kabaretowy
DESCRIPTION:DLA WIDZÓW \nSeniorStarcie przy Warcie to jedyny na Ratajach przegląd seniorskich\, amatorskich\, jedynych w swoim rodzaju grup kabaretowych\, stworzonych przeważnie na tę okoliczność. To już 29 kwietnia o godz. 17.00 wystąpią przed nami panie i panowie z repertuarem znanych i lubianych grup kabaretowych\, a także z własnymi\, autorskimi tekstami. To już niebawem będziemy pękać ze śmiechu i ocierać łzy radości\, wzruszenia\, czy niedowierzania. \nBezpłatne wejściówki będą do odbioru w DK „Polan Sto” od 04.04.2022r \, od poniedziałku do piątku w godzinach 16:00 – 20:00. \nDLA UCZESTNIKÓW \nSerdecznie zapraszamy kreatywnych\, twórczych i z dystansem do siebie SENIORÓW\, którzy zaszczycą nas swym udziałem w VI Przeglądzie Kabaretów Seniorskich. Do dnia 25 kwietnia 2022r. przyjmujemy zapisy w kategoriach SOLIŚCI oraz ZESPOŁY. Zachęcamy do wspólnej zabawy!!!! \nKABARETOWY PRZEGLĄD SENIORÓW regulamin 2022
URL:https://osiedlemlodych.pl/wydarzenia/seniorstarcie-przy-warcie-vi-przeglad-kabaretowy/
LOCATION:DK „Polan Sto”
CATEGORIES:Polan Sto
ATTACH;FMTTYPE=image/png:https://osiedlemlodych.pl/wp-content/uploads/2022/03/fotka-seniorstarcie.png
END:VEVENT
END:VCALENDAR