BEGIN:VCALENDAR
VERSION:2.0
PRODID:-//Spółdzielnia Mieszkaniowa Osiedle Młodych - ECPv5.16.4//NONSGML v1.0//EN
CALSCALE:GREGORIAN
METHOD:PUBLISH
X-WR-CALNAME:Spółdzielnia Mieszkaniowa Osiedle Młodych
X-ORIGINAL-URL:https://osiedlemlodych.pl
X-WR-CALDESC:Wydarzenia dla Spółdzielnia Mieszkaniowa Osiedle Młodych
BEGIN:VTIMEZONE
TZID:Europe/Warsaw
BEGIN:DAYLIGHT
TZOFFSETFROM:+0100
TZOFFSETTO:+0200
TZNAME:CEST
DTSTART:20250330T010000
END:DAYLIGHT
BEGIN:STANDARD
TZOFFSETFROM:+0200
TZOFFSETTO:+0100
TZNAME:CET
DTSTART:20251026T010000
END:STANDARD
END:VTIMEZONE
BEGIN:VEVENT
DTSTART;TZID=Europe/Warsaw:20250606T170000
DTEND;TZID=Europe/Warsaw:20250606T170000
DTSTAMP:20260421T145000
CREATED:20250505T090638Z
LAST-MODIFIED:20250505T090638Z
UID:51242-1749229200-1749229200@osiedlemlodych.pl
SUMMARY:Słodki Dzień Dziecka - warsztaty kulinarne
DESCRIPTION:Zapraszamy serdecznie wszystkich smakoszy i kucharzy na wyjątkowe warsztaty kulinarne z okazji Dnia Dziecka!\nPrzygotujemy dania pełne dziecięcej fantazji! Kolorowe\, kreatywne i PRZEPYSZNE! 💫🌈🍦🍭🥤💚 \nZapraszamy serdecznie dzieci w wieku 6-12 lat!\n6.06.2025 r.\, godz.17:00\nKoszt: 50 zł\nZapisy w DK „Polan STO”\, od pn. do pt. w godz. 16:00 – 20:00 lub mailowo: polansto@osiedlemlodych.pl
URL:https://osiedlemlodych.pl/wydarzenia/slodki-dzien-dziecka-warsztaty-kulinarne/
LOCATION:DK „Polan Sto”
CATEGORIES:Polan Sto
ATTACH;FMTTYPE=image/png:https://osiedlemlodych.pl/wp-content/uploads/2025/05/zdjecie-strona90.png
END:VEVENT
END:VCALENDAR