BEGIN:VCALENDAR
VERSION:2.0
PRODID:-//Spółdzielnia Mieszkaniowa Osiedle Młodych - ECPv5.16.4//NONSGML v1.0//EN
CALSCALE:GREGORIAN
METHOD:PUBLISH
X-WR-CALNAME:Spółdzielnia Mieszkaniowa Osiedle Młodych
X-ORIGINAL-URL:https://osiedlemlodych.pl
X-WR-CALDESC:Wydarzenia dla Spółdzielnia Mieszkaniowa Osiedle Młodych
BEGIN:VTIMEZONE
TZID:Europe/Warsaw
BEGIN:DAYLIGHT
TZOFFSETFROM:+0100
TZOFFSETTO:+0200
TZNAME:CEST
DTSTART:20230326T010000
END:DAYLIGHT
BEGIN:STANDARD
TZOFFSETFROM:+0200
TZOFFSETTO:+0100
TZNAME:CET
DTSTART:20231029T010000
END:STANDARD
END:VTIMEZONE
BEGIN:VEVENT
DTSTART;TZID=Europe/Warsaw:20231125T110000
DTEND;TZID=Europe/Warsaw:20231125T120000
DTSTAMP:20260419T151634
CREATED:20231011T094528Z
LAST-MODIFIED:20231017T164626Z
UID:43195-1700910000-1700913600@osiedlemlodych.pl
SUMMARY:SOBOTNIE BAJDURKI - spektakl "Błyskławica"
DESCRIPTION:Głęboko w oceanie mieszka ze swoim tatą mała rybka Fernando. Niestety jego mama zaginęła w niewyjaśnionych okolicznościach. Razem ze swoim przyjacielem Marcelem\, czerwoną żabą będą musieli stawić czoła tęsknocie i niebezpiecznej przygodzie jaką jest coraz bardziej zaśmiecone dno oceanu. \nTekst/Reżyseria/Lalki/Scenografia: IGOR FIJAŁKOWSKI\nMuzyka: STANISŁAW PAWLAK\nWystępują: ZUZANNA ŁUCZAK WIŚNIEWSKA\, EWA RURARZ\, IGOR FIJAŁKOWSKI. \n  \nSpektakl dla dzieci od 5 lat. \n  \nKoszt biletu rodzinnego dla dziecka z opiekunami wynosi 40 zł (przedsprzedaż) lub 45 zł (w dniu spektaklu). \n  \nRezerwacji można dokonać telefonicznie (tel. 61 877 78 42) lub mailowo (dkorlegniazdo@gmail.com).\nPo odbiór biletów zapraszamy do DK „Orle Gniazdo” od poniedziałku do piątku w godzinach 10:00-20:00.
URL:https://osiedlemlodych.pl/wydarzenia/sobotnie-bajdurki-spektakl-blyskawica/
LOCATION:Dom Kultury „Orle Gniazdo”\, os. Lecha 43\, Poznań\, Wielkopolskie\, 61-294\, Polska
CATEGORIES:Orle Gniazdo
ATTACH;FMTTYPE=image/jpeg:https://osiedlemlodych.pl/wp-content/uploads/2023/10/374580902-790851476378770-1497716102260288883-n.jpg
END:VEVENT
END:VCALENDAR