BEGIN:VCALENDAR
VERSION:2.0
PRODID:-//Spółdzielnia Mieszkaniowa Osiedle Młodych - ECPv5.16.4//NONSGML v1.0//EN
CALSCALE:GREGORIAN
METHOD:PUBLISH
X-WR-CALNAME:Spółdzielnia Mieszkaniowa Osiedle Młodych
X-ORIGINAL-URL:https://osiedlemlodych.pl
X-WR-CALDESC:Wydarzenia dla Spółdzielnia Mieszkaniowa Osiedle Młodych
BEGIN:VTIMEZONE
TZID:Europe/Warsaw
BEGIN:DAYLIGHT
TZOFFSETFROM:+0100
TZOFFSETTO:+0200
TZNAME:CEST
DTSTART:20220327T010000
END:DAYLIGHT
BEGIN:STANDARD
TZOFFSETFROM:+0200
TZOFFSETTO:+0100
TZNAME:CET
DTSTART:20221030T010000
END:STANDARD
END:VTIMEZONE
BEGIN:VEVENT
DTSTART;TZID=Europe/Warsaw:20220409T170000
DTEND;TZID=Europe/Warsaw:20220409T180000
DTSTAMP:20260422T020417
CREATED:20220221T140222Z
LAST-MODIFIED:20220221T140222Z
UID:33284-1649523600-1649527200@osiedlemlodych.pl
SUMMARY:Sobotnie Bajdurki – spektakl „Czuły Domek”
DESCRIPTION:Zapraszamy na spektakl pt. „Czuły Domek” w wykonaniu Teatru Gili-Gili. \nWykrzyknik i znak zapytania szukają ciepłego\, spokojnego miejsca do życia. Po długiej podróży docierają do opuszczonego Domu\, który ma w sobie duszę. Ma w sobie COŚ! Ma w sobie: złość\, upartość\, radość\, chciwość\, miłość i smutek. Wiele uczuć\, które pojawiają się niespodziewanie i są dla nas niezrozumiałe. \nW lekki i przyjemny sposób\, za pomocą obrazu\, muzyki i wesołych piosenek opowiemy o narodzinach emocji. O tym dlaczego warto żyć! \nKoszt wejściówki dla dziecka z opiekunem wynosi 20 zł (przedsprzedaż) lub 25 zł (w dniu spektaklu). \n\n\n\n\nRezerwacji można dokonać telefonicznie (tel. 61 877 78 42) lub mailowo (dkorlegniazdo@gmail.com). \nPo odbiór biletów zapraszamy do DK „Orle Gniazdo” od poniedziałku do piątku w godzinach 10:00-18:00 . \n\n\n\n\nZdjęcia autorstwa Macieja Zakrzewskiego.
URL:https://osiedlemlodych.pl/wydarzenia/sobotnie-bajdurki-spektakl-czuly-domek/
LOCATION:Dom Kultury „Orle Gniazdo”\, os. Lecha 43\, Poznań\, Wielkopolskie\, 61-294\, Polska
CATEGORIES:Orle Gniazdo
ATTACH;FMTTYPE=image/jpeg:https://osiedlemlodych.pl/wp-content/uploads/2022/02/dsc-3271-mzakrzewski-s.jpg
END:VEVENT
END:VCALENDAR