BEGIN:VCALENDAR
VERSION:2.0
PRODID:-//Spółdzielnia Mieszkaniowa Osiedle Młodych - ECPv5.16.4//NONSGML v1.0//EN
CALSCALE:GREGORIAN
METHOD:PUBLISH
X-WR-CALNAME:Spółdzielnia Mieszkaniowa Osiedle Młodych
X-ORIGINAL-URL:https://osiedlemlodych.pl
X-WR-CALDESC:Wydarzenia dla Spółdzielnia Mieszkaniowa Osiedle Młodych
BEGIN:VTIMEZONE
TZID:Europe/Warsaw
BEGIN:DAYLIGHT
TZOFFSETFROM:+0100
TZOFFSETTO:+0200
TZNAME:CEST
DTSTART:20240331T010000
END:DAYLIGHT
BEGIN:STANDARD
TZOFFSETFROM:+0200
TZOFFSETTO:+0100
TZNAME:CET
DTSTART:20241027T010000
END:STANDARD
END:VTIMEZONE
BEGIN:VEVENT
DTSTART;TZID=Europe/Warsaw:20240323T110000
DTEND;TZID=Europe/Warsaw:20240323T120000
DTSTAMP:20260420T065223
CREATED:20240208T182155Z
LAST-MODIFIED:20240208T182155Z
UID:45040-1711191600-1711195200@osiedlemlodych.pl
SUMMARY:SOBOTNIE BAJDURKI: Spektakl "Smok Wawelski" w wyk. Teatru NEMNO
DESCRIPTION:Pewnego razu\, kolekcjoner znajduje magiczny lewy but. Postanawia odnaleźć but prawy i tak trafia do królestwa Króla Kraka\, od którego dowiaduje się\, iż jego gród nękany jest przez okrutnego Smoka\, który codziennie pożera na śniadanie owcę. Do królestwa przybywają śmiałkowie licząc na wygraną z bestią i zacną nagrodę. Komu uda się pokonać Smoka? Dowiecie się przychodząc na spektakl. \nScenariusz i reżyseria: Henryk Hryniewicki \nScenografia: Dagmara Jemioła-Hryniewicka \nMuzyka: Miłosz Markiewicz \nSpektakl dla dzieci od 4 roku życia. \n  \nKoszt biletu rodzinnego dla dziecka z opiekunami wynosi 40 zł (przedsprzedaż) lub 45 zł (w dniu spektaklu). \nRezerwacji można dokonać telefonicznie (tel. 61 877 78 42) lub mailowo (dkorlegniazdo@gmail.com).\nPo odbiór biletów zapraszamy do DK „Orle Gniazdo” od poniedziałku do piątku w godzinach 10:00-20:00.
URL:https://osiedlemlodych.pl/wydarzenia/sobotnie-bajdurki-spektakl-smok-wawelski-w-wyk-teatru-nemno/
LOCATION:Dom Kultury „Orle Gniazdo”\, os. Lecha 43\, Poznań\, Wielkopolskie\, 61-294\, Polska
CATEGORIES:Orle Gniazdo
ATTACH;FMTTYPE=image/png:https://osiedlemlodych.pl/wp-content/uploads/2024/02/male.png
END:VEVENT
END:VCALENDAR