BEGIN:VCALENDAR
VERSION:2.0
PRODID:-//Spółdzielnia Mieszkaniowa Osiedle Młodych - ECPv5.16.4//NONSGML v1.0//EN
CALSCALE:GREGORIAN
METHOD:PUBLISH
X-WR-CALNAME:Spółdzielnia Mieszkaniowa Osiedle Młodych
X-ORIGINAL-URL:https://osiedlemlodych.pl
X-WR-CALDESC:Wydarzenia dla Spółdzielnia Mieszkaniowa Osiedle Młodych
BEGIN:VTIMEZONE
TZID:Europe/Warsaw
BEGIN:DAYLIGHT
TZOFFSETFROM:+0100
TZOFFSETTO:+0200
TZNAME:CEST
DTSTART:20240331T010000
END:DAYLIGHT
BEGIN:STANDARD
TZOFFSETFROM:+0200
TZOFFSETTO:+0100
TZNAME:CET
DTSTART:20241027T010000
END:STANDARD
END:VTIMEZONE
BEGIN:VEVENT
DTSTART;TZID=Europe/Warsaw:20241116T170000
DTEND;TZID=Europe/Warsaw:20241116T183000
DTSTAMP:20260422T111909
CREATED:20241017T083414Z
LAST-MODIFIED:20241019T085052Z
UID:48425-1731776400-1731781800@osiedlemlodych.pl
SUMMARY:Spektakl "Upiór w sanatorium\, czyli nic na serio" - Teatr Jedyny Taki
DESCRIPTION:Podobno każdy potrzebuje terapii\, tylko nie każdy o tym wie. Spektakl pt. „Upiór w sanatorium\, czyli nic na serio jest pretekstem do spotkania z Widzem w garderobie teatralnej. Lawirując zręcznie między światem realu a fikcją fabularną\, aktorki zacierają granice teatru pudełkowego\, zaskakując widza przenikaniem się teatralnych przestrzeni. „Twórczynie spektaklu wychodzą naprzeciw zapotrzebowaniu szeroko pojętej widowni na chwilę oddechu i radości\, tak cennych\, szczególnie w dzisiejszych\, niełatwych czasach. Koncentrują swe działania artystyczne wokół dobroczynnych walorów terapii poprzez śmiech\, który jest wszak jednym z najlepszych antidotum na wszelki smutek i stres. Wspomaga zarówno naszego ducha jaki i ciało. Idąc tym tropem aktorki zorientowały wszelkie swe działania wokół swoistej terapii sztuką lekką i przyjemną\, acz o wysokich walorach literackich. Wykorzystując groteskę\, pastisz i inteligentną ironię\, aktorki wciągają widzów w zabawę\, przybliżając im tajniki aktorskiego rzemiosła i procesu powstawania przedstawienia teatralnego. Sięgając po perły pióra największych polskich mistrzów lekkiej muzy i literatury\, aktorki darowują widzom prawdziwą\, terapeutyczną sesję geloterapii. \nScenariusz: Izabella Tarasiuk-Andrzejewska\nReżyseria: Anna Biniak i Izabella Tarasiuk – Andrzejewska \nTeatr Jedyny Taki powstał w maju w 2021 r. z inspiracji chwilą\, kiedy to po ponad rocznym zamknięciu instytucji kultury z powodu pandemii\, społeczeństwo jak nigdy spragnione było obcowania ze sztuką\, obecności drugiego człowieka i przebywania w atmosferze lekkości\, uśmiechu\, pozytywnych wibracji i dozy dobrego humoru. Współtworzą go poznańskie aktorki Anna Biniak i Izabella Tarasiuk – Andrzejewska\, które swoje wieloletnie doświadczenie w zawodzie\, zebrane w różnych przestrzeniach artystycznych\, wykorzystują grając razem przez ostatnie lata na deskach Mojego Teatru w Poznaniu w tytule „Nago w kisielu” pióra Marka Zgaińskiego. Owocem tej współpracy oraz łączącej panie wieloletniej przyjaźni i tzw. chemii scenicznej jest kolejny tytuł „Upiór w sanatorium\, czyli nic na serio”\, będący niejako kontynuacją zabawnych perypetii bohaterek\, ale funkcjonujący równie dobrze jako samodzielna forma. W zamyśle aktorek już kiełkuje kształt sceniczny kolejnego spektaklu\, który aktualnie jest w trakcie prób „stolikowych”. \n  \nBilety w cenie 30 zł do nabycia: \n\nw sekretariacie DK Orle Gniazdo\npoprzez serwis Bilety24.pl (https://www.bilety24.pl/teatr/1515-upior-w-sanatorium-czyli-nic-na-serio-115909?id=663184\, https://orlegniazdo.bilety24.pl/wydarzenie/?id=115909)
URL:https://osiedlemlodych.pl/wydarzenia/spektakl-upior-w-garderobie-czyli-nic-na-serio-teatr-jedyny-taki/
LOCATION:Dom Kultury „Orle Gniazdo”\, os. Lecha 43\, Poznań\, Wielkopolskie\, 61-294\, Polska
CATEGORIES:Orle Gniazdo
ATTACH;FMTTYPE=image/jpeg:https://osiedlemlodych.pl/wp-content/uploads/2024/10/uws-2.jpg
END:VEVENT
END:VCALENDAR