BEGIN:VCALENDAR
VERSION:2.0
PRODID:-//Spółdzielnia Mieszkaniowa Osiedle Młodych - ECPv5.16.4//NONSGML v1.0//EN
CALSCALE:GREGORIAN
METHOD:PUBLISH
X-WR-CALNAME:Spółdzielnia Mieszkaniowa Osiedle Młodych
X-ORIGINAL-URL:https://osiedlemlodych.pl
X-WR-CALDESC:Wydarzenia dla Spółdzielnia Mieszkaniowa Osiedle Młodych
BEGIN:VTIMEZONE
TZID:Europe/Warsaw
BEGIN:DAYLIGHT
TZOFFSETFROM:+0100
TZOFFSETTO:+0200
TZNAME:CEST
DTSTART:20250330T010000
END:DAYLIGHT
BEGIN:STANDARD
TZOFFSETFROM:+0200
TZOFFSETTO:+0100
TZNAME:CET
DTSTART:20251026T010000
END:STANDARD
END:VTIMEZONE
BEGIN:VEVENT
DTSTART;TZID=Europe/Warsaw:20251128T180000
DTEND;TZID=Europe/Warsaw:20251128T180000
DTSTAMP:20260422T020950
CREATED:20251106T100021Z
LAST-MODIFIED:20251106T100453Z
UID:53706-1764352800-1764352800@osiedlemlodych.pl
SUMMARY:Spotkanie autorskie z Krzysztofem Deszczyńskim
DESCRIPTION:Zapraszamy na spotkanie autorskie z Krzysztofem Deszczyńskim – aktorem\, twórcą i reżyserem widowisk telewizyjno-estradowych oraz autorem książki: „Bohdan Smoleń. Toksyczny duet z Laskowikiem”. \nKsiążka rysuje barwny portret artysty\, jego toksyczny związek z Zenonem Laskowikiem. Ujawnia źródła konfliktu i przyczyny rozpadu tego wspaniałego duetu. Pokazuje także w atrakcyjny sposób portret psychologiczny człowieka\, jakiego jeszcze nie znacie.\nAutor tej publikacji poznał popularnego Bogusia od podszewki\, współpracując z nim niemal 30 lat. Książka jest bogato ilustrowana\, na pewno zafrapuje nie tylko dawnych fanów Smolenia\, ale i wielu sympatyków sztuki kabaretowej. \n  \nWstęp wolny!
URL:https://osiedlemlodych.pl/wydarzenia/spotkanie-autorskie-z-krzysztofem-deszczynskim/
LOCATION:Dom Kultury „Orle Gniazdo”\, os. Lecha 43\, Poznań\, Wielkopolskie\, 61-294\, Polska
CATEGORIES:Orle Gniazdo
ATTACH;FMTTYPE=image/png:https://osiedlemlodych.pl/wp-content/uploads/2025/11/projekt-bez-nazwy2.png
END:VEVENT
END:VCALENDAR