BEGIN:VCALENDAR
VERSION:2.0
PRODID:-//Spółdzielnia Mieszkaniowa Osiedle Młodych - ECPv5.16.4//NONSGML v1.0//EN
CALSCALE:GREGORIAN
METHOD:PUBLISH
X-WR-CALNAME:Spółdzielnia Mieszkaniowa Osiedle Młodych
X-ORIGINAL-URL:https://osiedlemlodych.pl
X-WR-CALDESC:Wydarzenia dla Spółdzielnia Mieszkaniowa Osiedle Młodych
BEGIN:VTIMEZONE
TZID:Europe/Warsaw
BEGIN:DAYLIGHT
TZOFFSETFROM:+0100
TZOFFSETTO:+0200
TZNAME:CEST
DTSTART:20240331T010000
END:DAYLIGHT
BEGIN:STANDARD
TZOFFSETFROM:+0200
TZOFFSETTO:+0100
TZNAME:CET
DTSTART:20241027T010000
END:STANDARD
END:VTIMEZONE
BEGIN:VEVENT
DTSTART;TZID=Europe/Warsaw:20241111T160000
DTEND;TZID=Europe/Warsaw:20241111T180000
DTSTAMP:20260422T071420
CREATED:20241106T162015Z
LAST-MODIFIED:20241106T162015Z
UID:48730-1731340800-1731348000@osiedlemlodych.pl
SUMMARY:Spotkanie Klubu Seniora przy rogalach świętomarcińskich
DESCRIPTION:Jak co roku zapraszamy członków Klubu Seniora na spotkanie przy tradycyjnych rogalach z okazji dnia Świętego Marcina\, a przede wszystkim w patriotycznym duchu z okazji Narodowego Święta Niepodległości. \nSzczegóły: \nponiedziałek 11.11.2024. \ngodzina 16:00 \ndla członków Klubu Seniora \nmiejsce: Klub Cybinka\, ul. Warszawska 93/95 Poznań \nzapisy: 504 387 509 \n  \nZapraszamy! 💟
URL:https://osiedlemlodych.pl/wydarzenia/spotkanie-klubu-seniora-przy-rogalach-swietomarcinskich/
LOCATION:Klub „Cybinka”\, ul. Warszawska 93/95\, Poznań\, Wielkopolska\, 61-031\, Poland
CATEGORIES:Klub Cybinka
ATTACH;FMTTYPE=image/jpeg:https://osiedlemlodych.pl/wp-content/uploads/2024/11/rogale.jpg
END:VEVENT
END:VCALENDAR