BEGIN:VCALENDAR
VERSION:2.0
PRODID:-//Spółdzielnia Mieszkaniowa Osiedle Młodych - ECPv5.16.4//NONSGML v1.0//EN
CALSCALE:GREGORIAN
METHOD:PUBLISH
X-WR-CALNAME:Spółdzielnia Mieszkaniowa Osiedle Młodych
X-ORIGINAL-URL:https://osiedlemlodych.pl
X-WR-CALDESC:Wydarzenia dla Spółdzielnia Mieszkaniowa Osiedle Młodych
BEGIN:VTIMEZONE
TZID:Europe/Warsaw
BEGIN:DAYLIGHT
TZOFFSETFROM:+0100
TZOFFSETTO:+0200
TZNAME:CEST
DTSTART:20240331T010000
END:DAYLIGHT
BEGIN:STANDARD
TZOFFSETFROM:+0200
TZOFFSETTO:+0100
TZNAME:CET
DTSTART:20241027T010000
END:STANDARD
END:VTIMEZONE
BEGIN:VEVENT
DTSTART;TZID=Europe/Warsaw:20240322T190000
DTEND;TZID=Europe/Warsaw:20240322T210000
DTSTAMP:20260420T083542
CREATED:20240308T161625Z
LAST-MODIFIED:20240313T132102Z
UID:45572-1711134000-1711141200@osiedlemlodych.pl
SUMMARY:Spotkanie z Markiem Kamińskim
DESCRIPTION:Zapraszamy na spotkanie z Markiem Kamińskim – polarnikiem\, podróżnikiem i filozofem.\nPodczas spotkania dowiemy się o ekstremalnych wyprawach Marka Kamińskiego (gdzie niejednokrotnie przekraczał granice ludzkiej wytrzymałości) oraz o programach\, które stworzył.\nPorozmawiamy również o METODZIE BIEGUN – autorskim modelu Marka Kamińskiego\, która ma na celu m.in. wzmacnianie odporności psychicznej i budowanie świadomości siebie i otoczenia.\nSkąd czerpał siły i motywacje by iść dalej? Dlaczego mimo porażek nie poddał się i nie zrezygnował? Odpowiedź na te pytania oraz inne cenne wskazówki przekazuje w swoim programie Soward Mental Power by Marek Kamiński\, które są tak potrzebne dzisiejszej młodzieży.\n\n„Bieguny leżą tam\, gdzie je sobie sami wyznaczymy”\nMarek Kamiński\, Alfabet\n\n DK „Na Pięterku”\n 22 marca 2024 r.\n 19:00-21:00\n Informacje i wejściówki: DK „Na Pięterku”\n Bezpłatnie\nLiczba miejsc ograniczona. Obowiązują wejściówki (do odbioru od poniedziałku 11.03.24).
URL:https://osiedlemlodych.pl/wydarzenia/spotkanie-z-markiem-kaminskim/
LOCATION:Dom Kultury „Na Pięterku”\, os. Orła Białego 5\, Poznań\, Wielkopolska\, 61-251\, Poland
CATEGORIES:Na pięterku
ATTACH;FMTTYPE=image/jpeg:https://osiedlemlodych.pl/wp-content/uploads/2024/03/marek.jpg
END:VEVENT
END:VCALENDAR