BEGIN:VCALENDAR
VERSION:2.0
PRODID:-//Spółdzielnia Mieszkaniowa Osiedle Młodych - ECPv5.16.4//NONSGML v1.0//EN
CALSCALE:GREGORIAN
METHOD:PUBLISH
X-WR-CALNAME:Spółdzielnia Mieszkaniowa Osiedle Młodych
X-ORIGINAL-URL:https://osiedlemlodych.pl
X-WR-CALDESC:Wydarzenia dla Spółdzielnia Mieszkaniowa Osiedle Młodych
BEGIN:VTIMEZONE
TZID:Europe/Warsaw
BEGIN:DAYLIGHT
TZOFFSETFROM:+0100
TZOFFSETTO:+0200
TZNAME:CEST
DTSTART:20230326T010000
END:DAYLIGHT
BEGIN:STANDARD
TZOFFSETFROM:+0200
TZOFFSETTO:+0100
TZNAME:CET
DTSTART:20231029T010000
END:STANDARD
END:VTIMEZONE
BEGIN:VEVENT
DTSTART;TZID=Europe/Warsaw:20231122T160000
DTEND;TZID=Europe/Warsaw:20231122T183000
DTSTAMP:20260419T233810
CREATED:20231030T173641Z
LAST-MODIFIED:20231110T133144Z
UID:43541-1700668800-1700677800@osiedlemlodych.pl
SUMMARY:Spotkanie z Podróżnikiem
DESCRIPTION:Wydarzenie w ramach projektu “Ratajski Przystanek Seniora”\nfinansowane z budżetu Miasta Poznania. \nBezpłatne wejściówki do odbioru w biurze DK „Jagiellonka”.\nBiuro czynne: \n\nponiedziałek 14.00 – 19.00\,\nwtorek\, środa\, czwartek 14.00 – 20.00\,\npiątek 10.00 – 18.00.\n\n 
URL:https://osiedlemlodych.pl/wydarzenia/spotkanie-z-podroznikiem/
LOCATION:Dom Kultury „Jagiellonka”
CATEGORIES:Jagiellonka
ATTACH;FMTTYPE=image/png:https://osiedlemlodych.pl/wp-content/uploads/2023/10/spotkanie-z-podroznikiem-1.png
END:VEVENT
END:VCALENDAR