BEGIN:VCALENDAR
VERSION:2.0
PRODID:-//Spółdzielnia Mieszkaniowa Osiedle Młodych - ECPv5.16.4//NONSGML v1.0//EN
CALSCALE:GREGORIAN
METHOD:PUBLISH
X-WR-CALNAME:Spółdzielnia Mieszkaniowa Osiedle Młodych
X-ORIGINAL-URL:https://osiedlemlodych.pl
X-WR-CALDESC:Wydarzenia dla Spółdzielnia Mieszkaniowa Osiedle Młodych
BEGIN:VTIMEZONE
TZID:Europe/Warsaw
BEGIN:DAYLIGHT
TZOFFSETFROM:+0100
TZOFFSETTO:+0200
TZNAME:CEST
DTSTART:20250330T010000
END:DAYLIGHT
BEGIN:STANDARD
TZOFFSETFROM:+0200
TZOFFSETTO:+0100
TZNAME:CET
DTSTART:20251026T010000
END:STANDARD
END:VTIMEZONE
BEGIN:VEVENT
DTSTART;TZID=Europe/Warsaw:20251216T170000
DTEND;TZID=Europe/Warsaw:20251216T190000
DTSTAMP:20260422T035307
CREATED:20251119T171212Z
LAST-MODIFIED:20251209T163250Z
UID:53871-1765904400-1765911600@osiedlemlodych.pl
SUMMARY:Świąteczna Pracownia małych Elfów – warsztaty świąteczne dla dzieci
DESCRIPTION:Już 16 grudnia serdecznie zapraszamy wszystkie dzieci w wieku 6-12 lat na warsztaty rękodzieła w klimacie świątecznym! \nW radosnej\, pełnej ciepła atmosferze stworzymy piękne dekoracje świąteczne\, które będą ozdobą domu lub świetnym prezentem dla najbliższych. Zapewniamy wszelkie materiały\, słodki upominek oraz świetną zabawę przy najpiękniejszych kolędach\, aby poczuć magię świąt. \nCzekamy na Was w naszej Świątecznej Pracowni małych Elfów! \nData: 16 grudnia \nGodzina: 17:00 \nKoszt: 30 zł \nMiejsce: Dom Kultury „Na Pięterku” \nZapisy od 28 listopada.
URL:https://osiedlemlodych.pl/wydarzenia/swiateczna-pracownia-malych-elfow-warsztaty-swiateczne-dla-dzieci-2/
LOCATION:Dom Kultury „Na Pięterku”\, os. Orła Białego 5\, Poznań\, Wielkopolska\, 61-251\, Poland
CATEGORIES:Na pięterku
ATTACH;FMTTYPE=image/png:https://osiedlemlodych.pl/wp-content/uploads/2025/11/warsztaty-2.png
END:VEVENT
END:VCALENDAR