BEGIN:VCALENDAR
VERSION:2.0
PRODID:-//Spółdzielnia Mieszkaniowa Osiedle Młodych - ECPv5.16.4//NONSGML v1.0//EN
CALSCALE:GREGORIAN
METHOD:PUBLISH
X-WR-CALNAME:Spółdzielnia Mieszkaniowa Osiedle Młodych
X-ORIGINAL-URL:https://osiedlemlodych.pl
X-WR-CALDESC:Wydarzenia dla Spółdzielnia Mieszkaniowa Osiedle Młodych
BEGIN:VTIMEZONE
TZID:Europe/Warsaw
BEGIN:DAYLIGHT
TZOFFSETFROM:+0100
TZOFFSETTO:+0200
TZNAME:CEST
DTSTART:20230326T010000
END:DAYLIGHT
BEGIN:STANDARD
TZOFFSETFROM:+0200
TZOFFSETTO:+0100
TZNAME:CET
DTSTART:20231029T010000
END:STANDARD
END:VTIMEZONE
BEGIN:VEVENT
DTSTART;TZID=Europe/Warsaw:20230324T170000
DTEND;TZID=Europe/Warsaw:20230324T183000
DTSTAMP:20260422T071419
CREATED:20230223T130539Z
LAST-MODIFIED:20230223T130539Z
UID:39028-1679677200-1679682600@osiedlemlodych.pl
SUMMARY:Świąteczne Rodzinne Warsztaty Artystyczne
DESCRIPTION:Świąteczne warsztaty artystyczne pod hasłem „Tradycja w nowoczesnej odsłonie na kilka sposobów” zaproponują uczestnikom nowe i oryginalne techniki tworzenia i dekorowania jajek wielkanocnych.
URL:https://osiedlemlodych.pl/wydarzenia/swiateczne-rodzinne-warsztaty-artystyczne/
LOCATION:Klub „Cybinka”\, ul. Warszawska 93/95\, Poznań\, Wielkopolska\, 61-031\, Poland
CATEGORIES:Klub Cybinka
ATTACH;FMTTYPE=image/jpeg:https://osiedlemlodych.pl/wp-content/uploads/2023/02/easter-eggs-g25a37d3c4-1920.jpg
END:VEVENT
END:VCALENDAR