BEGIN:VCALENDAR
VERSION:2.0
PRODID:-//Spółdzielnia Mieszkaniowa Osiedle Młodych - ECPv5.16.4//NONSGML v1.0//EN
CALSCALE:GREGORIAN
METHOD:PUBLISH
X-WR-CALNAME:Spółdzielnia Mieszkaniowa Osiedle Młodych
X-ORIGINAL-URL:https://osiedlemlodych.pl
X-WR-CALDESC:Wydarzenia dla Spółdzielnia Mieszkaniowa Osiedle Młodych
BEGIN:VTIMEZONE
TZID:Europe/Warsaw
BEGIN:DAYLIGHT
TZOFFSETFROM:+0100
TZOFFSETTO:+0200
TZNAME:CEST
DTSTART:20240331T010000
END:DAYLIGHT
BEGIN:STANDARD
TZOFFSETFROM:+0200
TZOFFSETTO:+0100
TZNAME:CET
DTSTART:20241027T010000
END:STANDARD
END:VTIMEZONE
BEGIN:VEVENT
DTSTART;TZID=Europe/Warsaw:20241221T090000
DTEND;TZID=Europe/Warsaw:20241221T140000
DTSTAMP:20260422T053429
CREATED:20241125T124500Z
LAST-MODIFIED:20241125T125042Z
UID:48987-1734771600-1734789600@osiedlemlodych.pl
SUMMARY:ŚWIĄTECZNY POBÓR KRWI w SKAUCIE
DESCRIPTION:Twoja krew może uratować życie!  \nDołącz do grona dawców krwi i zobacz\, jak wiele dobrego możesz zrobić!  \nZapraszamy wszystkich dawców między 18 a 65 rokiem życia. To takie proste działanie\, a ma ogromny wpływ na innych.  \nPomyśl o tym – jedno oddanie krwi może pomóc osobom opadającym z sił\, cierpiącym na choroby lub przechodzącym operacje.  \nTo jest coś\, czego nie można kupić\, wyprodukować. Kiedy oddajesz krew\, naprawdę robisz coś niesamowitego.
URL:https://osiedlemlodych.pl/wydarzenia/swiateczny-pobor-krwi/
LOCATION:Osiedle Piastowskie 101\, 61-164 Poznań\, os. Piastowskie 101\, Poznań\, 61 -164
CATEGORIES:Dom harcerza Skaut
ATTACH;FMTTYPE=image/jpeg:https://osiedlemlodych.pl/wp-content/uploads/2024/11/462578412-574993338493290-8928272210853307814-n.jpg
END:VEVENT
END:VCALENDAR