BEGIN:VCALENDAR
VERSION:2.0
PRODID:-//Spółdzielnia Mieszkaniowa Osiedle Młodych - ECPv5.16.4//NONSGML v1.0//EN
CALSCALE:GREGORIAN
METHOD:PUBLISH
X-WR-CALNAME:Spółdzielnia Mieszkaniowa Osiedle Młodych
X-ORIGINAL-URL:https://osiedlemlodych.pl
X-WR-CALDESC:Wydarzenia dla Spółdzielnia Mieszkaniowa Osiedle Młodych
BEGIN:VTIMEZONE
TZID:Europe/Warsaw
BEGIN:DAYLIGHT
TZOFFSETFROM:+0100
TZOFFSETTO:+0200
TZNAME:CEST
DTSTART:20240331T010000
END:DAYLIGHT
BEGIN:STANDARD
TZOFFSETFROM:+0200
TZOFFSETTO:+0100
TZNAME:CET
DTSTART:20241027T010000
END:STANDARD
END:VTIMEZONE
BEGIN:VEVENT
DTSTART;TZID=Europe/Warsaw:20241212T160000
DTEND;TZID=Europe/Warsaw:20241212T190000
DTSTAMP:20260419T182910
CREATED:20241114T163656Z
LAST-MODIFIED:20241114T163813Z
UID:48840-1734019200-1734030000@osiedlemlodych.pl
SUMMARY:"Świąteczny Poznań" - klimatyczny spacer po mieście
DESCRIPTION:Udajmy się wspólnie na klimatyczny spacer wieczorową porą po naszym pięknie przystrojonym mieście! Podczas przechadzki z przewodnikiem\, dowiemy się wielu ciekawostek na temat architektury oraz historii Poznania\, a na koniec\, by nieco się ogrzać i spędzić miło czas udamy się na gorący napój i coś słodkiego! \nW programie: \n\nspacer z przewodnikiem przez: Śródkę\, Most Jordana (iluminacje świąteczne)\, Chwaliszewo\, Stary Rynek\,\narchitektura i historia Poznania\,\nkawiarnia “W Filiżcance Cafe Poznań”.\n\nW cenie: \n\nopieka przewodnika\,\nzimowa herbata\, kawa lub grzaniec i ciasto.\n\nZBIÓRKA: \ngodz. 16.00 przy muralu na Śródce  \n  \nObowiązują zapisy telefoniczne lub osobiste w godzinach otwarcia Domu Kultury.
URL:https://osiedlemlodych.pl/wydarzenia/swiateczny-poznan-klimatyczny-spacer-po-miescie/
LOCATION:Poznań
CATEGORIES:Jagiellonka
ATTACH;FMTTYPE=image/png:https://osiedlemlodych.pl/wp-content/uploads/2024/11/swiateczny-poznan.png
END:VEVENT
END:VCALENDAR