BEGIN:VCALENDAR
VERSION:2.0
PRODID:-//Spółdzielnia Mieszkaniowa Osiedle Młodych - ECPv5.16.4//NONSGML v1.0//EN
CALSCALE:GREGORIAN
METHOD:PUBLISH
X-WR-CALNAME:Spółdzielnia Mieszkaniowa Osiedle Młodych
X-ORIGINAL-URL:https://osiedlemlodych.pl
X-WR-CALDESC:Wydarzenia dla Spółdzielnia Mieszkaniowa Osiedle Młodych
BEGIN:VTIMEZONE
TZID:Europe/Warsaw
BEGIN:DAYLIGHT
TZOFFSETFROM:+0100
TZOFFSETTO:+0200
TZNAME:CEST
DTSTART:20250330T010000
END:DAYLIGHT
BEGIN:STANDARD
TZOFFSETFROM:+0200
TZOFFSETTO:+0100
TZNAME:CET
DTSTART:20251026T010000
END:STANDARD
END:VTIMEZONE
BEGIN:VEVENT
DTSTART;TZID=Europe/Warsaw:20251207T160000
DTEND;TZID=Europe/Warsaw:20251207T160000
DTSTAMP:20260422T003436
CREATED:20251107T180938Z
LAST-MODIFIED:20251124T112338Z
UID:53737-1765123200-1765123200@osiedlemlodych.pl
SUMMARY:Świąteczny spektakl dla dzieci "Co się kryje w elfiej czapeczce?"
DESCRIPTION:Zapraszamy na świąteczny spektakl dla dzieci w wykonaniu teatru Asz.Teatr! \nBezpłatne wejściówki do odbioru w DK „Polan STO” od 24 listopada 2025 r.\nw godzinach 16:00 – 20:00\, od pn. do pt. \nWydarzenie realizowane w ramach projektu „Bliżej kultury\, bliżej siebie”\, dofinansowane z budżetu Miasta Poznania.
URL:https://osiedlemlodych.pl/wydarzenia/swiateczny-spektakl-dla-dzieci-co-sie-kryje-w-elfiej-czapeczce/
LOCATION:DK „Polan Sto”
CATEGORIES:Polan Sto
ATTACH;FMTTYPE=image/png:https://osiedlemlodych.pl/wp-content/uploads/2025/11/zdjecie-strona36.png
END:VEVENT
END:VCALENDAR