BEGIN:VCALENDAR
VERSION:2.0
PRODID:-//Spółdzielnia Mieszkaniowa Osiedle Młodych - ECPv5.16.4//NONSGML v1.0//EN
CALSCALE:GREGORIAN
METHOD:PUBLISH
X-WR-CALNAME:Spółdzielnia Mieszkaniowa Osiedle Młodych
X-ORIGINAL-URL:https://osiedlemlodych.pl
X-WR-CALDESC:Wydarzenia dla Spółdzielnia Mieszkaniowa Osiedle Młodych
BEGIN:VTIMEZONE
TZID:Europe/Warsaw
BEGIN:DAYLIGHT
TZOFFSETFROM:+0100
TZOFFSETTO:+0200
TZNAME:CEST
DTSTART:20240331T010000
END:DAYLIGHT
BEGIN:STANDARD
TZOFFSETFROM:+0200
TZOFFSETTO:+0100
TZNAME:CET
DTSTART:20241027T010000
END:STANDARD
END:VTIMEZONE
BEGIN:VEVENT
DTSTART;TZID=Europe/Warsaw:20240524T080000
DTEND;TZID=Europe/Warsaw:20240524T210000
DTSTAMP:20260422T020411
CREATED:20240506T120818Z
LAST-MODIFIED:20240506T121512Z
UID:46497-1716537600-1716584400@osiedlemlodych.pl
SUMMARY:"Szlakiem zdrowia i historii"
DESCRIPTION:WYCIECZKA AUTOKAROWA „Szlakiem zdrowia i historii” \nW programie: \n\nInowrocław – część uzdrowiskowa m.in.: park i tężnie solankowe\, pijalnia wód\, Aleja Dębów Gwiazd\,\nKruszwica – Mysia wieża i Kolegiata\, rejs statkiem po jeziorze Gopło.\n\nW cenie:  \n\nprzejazd autokarem\, ubezpieczenie\, bilety wstępu\, opieka przewodników oraz obiad z kawą i ciastem.\n\nKOSZT:\n220 zł – płatne do 17.05.2024  \nZapisy telefoniczne lub osobiste w godzinach otwarcia Domu Kultury „Jagiellonka”.
URL:https://osiedlemlodych.pl/wydarzenia/szlakiem-zdrowia-i-historii/
LOCATION:Inowrocław
CATEGORIES:Jagiellonka
ATTACH;FMTTYPE=image/png:https://osiedlemlodych.pl/wp-content/uploads/2024/05/jagiellonka-cafe-16.png
END:VEVENT
END:VCALENDAR