BEGIN:VCALENDAR
VERSION:2.0
PRODID:-//Spółdzielnia Mieszkaniowa Osiedle Młodych - ECPv5.16.4//NONSGML v1.0//EN
CALSCALE:GREGORIAN
METHOD:PUBLISH
X-WR-CALNAME:Spółdzielnia Mieszkaniowa Osiedle Młodych
X-ORIGINAL-URL:https://osiedlemlodych.pl
X-WR-CALDESC:Wydarzenia dla Spółdzielnia Mieszkaniowa Osiedle Młodych
BEGIN:VTIMEZONE
TZID:Europe/Warsaw
BEGIN:DAYLIGHT
TZOFFSETFROM:+0100
TZOFFSETTO:+0200
TZNAME:CEST
DTSTART:20240331T010000
END:DAYLIGHT
BEGIN:STANDARD
TZOFFSETFROM:+0200
TZOFFSETTO:+0100
TZNAME:CET
DTSTART:20241027T010000
END:STANDARD
END:VTIMEZONE
BEGIN:VEVENT
DTSTART;TZID=Europe/Warsaw:20240302T110000
DTEND;TZID=Europe/Warsaw:20240302T120000
DTSTAMP:20260421T174601
CREATED:20240215T133520Z
LAST-MODIFIED:20240301T152106Z
UID:45113-1709377200-1709380800@osiedlemlodych.pl
SUMMARY:Teatr ilustracji Kamishibai i warsztaty dla dzieci
DESCRIPTION:W ramach cyklu 𝐁𝐥𝐢𝐳̇𝐞𝐣 𝐊𝐮𝐥𝐭𝐮𝐫𝐲\, 𝐁𝐥𝐢𝐳̇𝐞𝐣 𝐒𝐢𝐞𝐛𝐢𝐞 zapraszamy z Ratajskim Centrum Kultury i Stowarzyszeniem Zielona Grupa na Teatr Ilustracji Kamishibai.\nBędzie to spotkanie ze sztuką i teatrem połączone z warsztatami dla dzieci w wieku 6-11 lat.\nPodczas wydarzenia zostanie zaprezentowana bajka o księciu Husajnie i latającym dywanie.\nJedna z “Baśni Tysiąca i jednej nocy”\, w której trzej bracia konkurują o prawo do tronu. Magiczny dywan\, cudowna luneta\, uzdrawiające jabłko… Który z przedmiotów przyniesie zwycięstwo?\n DK „Na Pięterku”\n 2 marca 2024 r.\n 11:00-12:30\n Informacje i zapisy: DK „Na Pięterku”\n Bezpłatnie\nLiczba miejsc ograniczona. Decyduje kolejność zgłoszeń.\nWydarzenie odbędzie się w ramach cyklu 𝑩𝒍𝒊𝒛̇𝒆𝒋 𝑲𝒖𝒍𝒕𝒖𝒓𝒚\, 𝑩𝒍𝒊𝒛̇𝒆𝒋 𝑺𝒊𝒆𝒃𝒊𝒆. Jego organizatorem jest Ratajskie Centrum Kultury\, partnerzy to ratajskie Domy Kultury Spółdzielnia Mieszkaniowa „Osiedle Młodych” w Poznaniu. Projekt dofinansowano ze środków budżetowych Miasto Poznań.\n#poznanwspiera #rck #bliżejkulturybliżejsiebie #ratajskiecentrumkultury #warsztaty #kamishibai #teatrilustracji\nKontakt:\nDK „Na Pięterku”\nos. Orła Białego 5\nPON-PT 15:00-20:00\ntel. 61 879 63 11\ne-mail: napieterku@osiedlemlodych.pl
URL:https://osiedlemlodych.pl/wydarzenia/teatr-ilustracji-kamishibai-i-warsztaty-dla-dzieci/
LOCATION:Dom Kultury „Na Pięterku”\, os. Orła Białego 5\, Poznań\, Wielkopolska\, 61-251\, Poland
CATEGORIES:Na pięterku
ATTACH;FMTTYPE=image/jpeg:https://osiedlemlodych.pl/wp-content/uploads/2024/02/kamishibai-rozwijaj-wyobraznie.jpg
END:VEVENT
END:VCALENDAR