BEGIN:VCALENDAR
VERSION:2.0
PRODID:-//Spółdzielnia Mieszkaniowa Osiedle Młodych - ECPv5.16.4//NONSGML v1.0//EN
CALSCALE:GREGORIAN
METHOD:PUBLISH
X-WR-CALNAME:Spółdzielnia Mieszkaniowa Osiedle Młodych
X-ORIGINAL-URL:https://osiedlemlodych.pl
X-WR-CALDESC:Wydarzenia dla Spółdzielnia Mieszkaniowa Osiedle Młodych
BEGIN:VTIMEZONE
TZID:Europe/Warsaw
BEGIN:DAYLIGHT
TZOFFSETFROM:+0100
TZOFFSETTO:+0200
TZNAME:CEST
DTSTART:20240331T010000
END:DAYLIGHT
BEGIN:STANDARD
TZOFFSETFROM:+0200
TZOFFSETTO:+0100
TZNAME:CET
DTSTART:20241027T010000
END:STANDARD
END:VTIMEZONE
BEGIN:VEVENT
DTSTART;TZID=Europe/Warsaw:20241026T180000
DTEND;TZID=Europe/Warsaw:20241026T190000
DTSTAMP:20260420T130655
CREATED:20240410T120857Z
LAST-MODIFIED:20241010T101843Z
UID:46150-1729965600-1729969200@osiedlemlodych.pl
SUMMARY:TENOR kontra SOPRAN - Operetkowe prze(boje) na wysokich tonach
DESCRIPTION:Hity operetkowe\, radość i wzruszenie\, miłosne arie i duety\, pikanteria i dowcip oraz relaks tak nam potrzebny:) a w dodatku…kabaretowa forma! Wykonawcami są soliści Teatru Wielkiego w Poznaniu – Barbara Gutaj-Monowid (sopran)\, Marek Szymański (tenor) i Sebastian Cieśliński (pianista).\n\n\n \nBilety dostępne na stronach: \nhttps://orlegniazdo.bilety24.pl/wydarzenie/?id=115164\nhttps://www.bilety24.pl/koncert/1515-tenor-kontra-sopran-operetkowe-prze-boje-na-wysokich-tonach-115164?id=659306 \n\nlub w sekretariacie DK „Orle Gniazdo”.\n\n \nWydarzenie realizowane w ramach Senioralni 2024 – „Razem. Bliżej. Lepiej”.
URL:https://osiedlemlodych.pl/wydarzenia/tenor-kontra-sopran-operetkowe-przeboje-na-wysokich-tonach/
LOCATION:Dom Kultury „Orle Gniazdo”\, os. Lecha 43\, Poznań\, Wielkopolskie\, 61-294\, Polska
CATEGORIES:Orle Gniazdo
ATTACH;FMTTYPE=image/jpeg:https://osiedlemlodych.pl/wp-content/uploads/2024/04/344744613-189574790640946-458274078215285621-n-1.jpg
END:VEVENT
END:VCALENDAR