BEGIN:VCALENDAR
VERSION:2.0
PRODID:-//Spółdzielnia Mieszkaniowa Osiedle Młodych - ECPv5.16.4//NONSGML v1.0//EN
CALSCALE:GREGORIAN
METHOD:PUBLISH
X-WR-CALNAME:Spółdzielnia Mieszkaniowa Osiedle Młodych
X-ORIGINAL-URL:https://osiedlemlodych.pl
X-WR-CALDESC:Wydarzenia dla Spółdzielnia Mieszkaniowa Osiedle Młodych
BEGIN:VTIMEZONE
TZID:Europe/Warsaw
BEGIN:DAYLIGHT
TZOFFSETFROM:+0100
TZOFFSETTO:+0200
TZNAME:CEST
DTSTART:20220327T010000
END:DAYLIGHT
BEGIN:STANDARD
TZOFFSETFROM:+0200
TZOFFSETTO:+0100
TZNAME:CET
DTSTART:20221030T010000
END:STANDARD
END:VTIMEZONE
BEGIN:VEVENT
DTSTART;TZID=Europe/Warsaw:20220423T100000
DTEND;TZID=Europe/Warsaw:20220423T150000
DTSTAMP:20260422T053706
CREATED:20220321T175919Z
LAST-MODIFIED:20220413T171412Z
UID:33852-1650708000-1650726000@osiedlemlodych.pl
SUMMARY:Turniej "Mój pierwszy krok szachowy"
DESCRIPTION:Serdecznie zapraszamy na wiosenny turniej „Mój pierwszy krok szachowy” dla dzieci bez kategorii szachowej 🙂 \nOrganizatorami turnieju są: Spółdzielnia Mieszkaniowa „Osiedle Młodych” w Poznaniu oraz Dom Kultury „Na Pięterku”. \n  \nRegulamin turnieju: \n  \n 1. Data i miejsce: \nSobota  23.04.2022   godz. 10:00 \nDom Kultury ”Na Pięterku”\,os. Orła Białego 5 61-251 Poznań \ntel. 61 8796-311 \nnapieterku@osiedlemlodych.pl \nFacebook: Dom Kultury „Na Pięterku” \nPotwierdzenie obecności i wpłacenie wpisowego w dniu imprezy w godz. 9:00 – 9:45. \nRozpoczęcie turnieju o godz. 10:00. \n  \n2. System rozgrywek \nTurniej dla dzieci z rocznika 2011 z młodszych bez kategorii szachowej. \nTurniej rozegrany zostanie na dystansie 7 rund. \nTempo gry 15 minut na partię dla zawodnika. \nObowiązują aktualne przepisy kodeksu szachowego \n  \n3. Zgłoszenia \nZgłoszenia mailem na adres: szachynapieterku@wp.pl najpóźniej do czwartku 21.04.2022 lub do wyczerpania  miejsc. \nW zgłoszeniu proszę podać imię i nazwisko zawodnika\, rocznik oraz nazwę klubu/szkoły. \nLiczba miejsc ograniczona. Decyduje kolejność zgłoszeń. \n  \n4. Wpisowe \nWpisowe w wysokości 35 zł od osoby płatne na miejscu przed zawodami. \n          \n5. Klasyfikacja turniejowa \nO miejscu w turnieju decyduje liczba zdobytych punktów (wygrana 1 pkt\, remis 0\,5 pkt\, przegrana 0) \nW przypadku równej ilości zdobytych punktów o miejscu decydują kolejno: \n\nPunktacja skrócona Buchholza \nPunktacja pełna Buchholza\nLiczba zwycięstw\nWynik bezpośredniej partii\n\n  \n6. Nagrody \nOrganizatorzy przewidują nagrody oddzielnie w kategorii dziewcząt i chłopców: \n\nza miejsca od 1 do 3 – medal + dyplom + nagroda rzeczowa\nza miejsca od 4 do 6 – dyplom + nagroda rzeczowa\n\nDla wszystkich uczestników słodki upominek. \n  \n7. Informacja o przetwarzaniu danych osobowych \nSpółdzielnia Mieszkaniowa „Osiedle Młodych” w Poznaniu jako główny organizator imprezy informuje\, że akceptacja Regulaminu Zawodów oraz zgłoszenie do imprezy jest równoznaczne z wyrażeniem zgody na przetwarzanie danych osobowych oraz wizerunku zawodników przez organizatora\, a także zgodą na zamieszczanie  wyników turnieju  w Internecie. \n  \n8. Uwagi \nZa opiekę i zachowanie dzieci podczas turnieju odpowiedzialny jest rodzic/opiekun. \nDzieci nie mogą przebywać na turnieju bez rodzica/opiekuna. \n  \nORGANIZATORZY ZASTRZEGAJĄ SOBIE PRAWO DO ZMIANY ORAZ WŁASNEJ INTERPRETACJI REGULAMINU
URL:https://osiedlemlodych.pl/wydarzenia/turniej-moj-pierwszy-krok-szachowy/
LOCATION:DK „Na Pięterku”\, os. Orła Białego 5\, Poznań
CATEGORIES:Na pięterku
ATTACH;FMTTYPE=image/jpeg:https://osiedlemlodych.pl/wp-content/uploads/2022/02/turniej1.jpg
END:VEVENT
END:VCALENDAR