BEGIN:VCALENDAR
VERSION:2.0
PRODID:-//Spółdzielnia Mieszkaniowa Osiedle Młodych - ECPv5.16.4//NONSGML v1.0//EN
CALSCALE:GREGORIAN
METHOD:PUBLISH
X-WR-CALNAME:Spółdzielnia Mieszkaniowa Osiedle Młodych
X-ORIGINAL-URL:https://osiedlemlodych.pl
X-WR-CALDESC:Wydarzenia dla Spółdzielnia Mieszkaniowa Osiedle Młodych
BEGIN:VTIMEZONE
TZID:Europe/Warsaw
BEGIN:DAYLIGHT
TZOFFSETFROM:+0100
TZOFFSETTO:+0200
TZNAME:CEST
DTSTART:20240331T010000
END:DAYLIGHT
BEGIN:STANDARD
TZOFFSETFROM:+0200
TZOFFSETTO:+0100
TZNAME:CET
DTSTART:20241027T010000
END:STANDARD
END:VTIMEZONE
BEGIN:VEVENT
DTSTART;TZID=Europe/Warsaw:20240316T100000
DTEND;TZID=Europe/Warsaw:20240316T150000
DTSTAMP:20260422T221029
CREATED:20240224T174122Z
LAST-MODIFIED:20240305T171329Z
UID:45238-1710583200-1710601200@osiedlemlodych.pl
SUMMARY:Turniej szachowy dla dzieci "Młode Talenty"
DESCRIPTION:Serdecznie zapraszamy na Turniej Szachowy dla dzieci „Młode Talenty”\, który odbędzie się 16 marca w Domu Kultury „Na Pięterku”. \n1. Miejsce i data \nsobota 16.03.2024  \nDom Kultury „Na Pięterku” \nos. Orła Białego 5 \n61-251 Poznań \nPotwierdzenie obecności i wpłacenie wpisowego w dniu imprezy w godz. 9:00 – 9:40. \nRozpoczęcie turnieju o godz. 10:00. \n2. System rozgrywek \nTURNIEJ MŁODE TALENTY – rocznik 2012 i młodsi do IV kategorii \nTurniej rozegrany zostanie na dystansie 7 rund. Kojarzenie komputerowe. \nObowiązują aktualne przepisy kodeksu szachowego. \nTempo gry 15 minut na partię dla zawodnika. \n3. Zgłoszenia \nZgłoszenia mailem na adres: szachynapieterku@wp.pl lub przez formularz zgłoszeniowy na stronie www.chessmanager.com najpóźniej do czwartku 14.03.2024 do godz. 20.00 lub do wyczerpania miejsc. W zgłoszeniu proszę podać imię i nazwisko zawodnika\, pełną datę urodzenia\, nazwę klubu/szkoły/przedszkola oraz kategorię i ranking. Liczba miejsc ograniczona. Decyduje kolejność zgłoszeń. \n4. Wpisowe \nWpisowe w wysokości 50 zł od osoby płatne gotówką na miejscu przed zawodami. Potwierdzenie obecności i wpłacenie wpisowego w dniu imprezy w godz. 9:00 – 9:40. \n5. Klasyfikacja turniejowa \nO miejscu w turnieju decyduje liczba zdobytych punktów (wygrana 1 pkt\, remis 0\,5 pkt\, przegrana 0) \nW przypadku równej ilości zdobytych punktów o miejscu decydują kolejno: \n\nBuchholz zredukowany 1\n2. Buchholz\n3. Sonneborn-Berger\n4. Progress\n5. Bezpośredni pojedynek\n6. Liczba zwycięstw\n7. Liczba partii wygranych czarnymi\n\n6. Nagrody \nOrganizatorzy przewidują nagrody oddzielnie w kategorii dziewcząt i chłopców: \n\nza miejsca od 1 do 3 – medal + dyplom + nagroda rzeczowa\nza miejsca od 4 do 6 – dyplom + nagroda rzeczowa\n\nDla wszystkich uczestników pamiątkowy dyplom i słodki upominek. \n7. Informacja o przetwarzaniu danych osobowych \nSpółdzielnia Mieszkaniowa „Osiedle Młodych” w Poznaniu jako główny organizator imprezy informuje\, że akceptacja Regulaminu Zawodów oraz zgłoszenie do imprezy jest równoznaczne z wyrażeniem zgody na przetwarzanie danych osobowych oraz wizerunku zawodników przez organizatora\, a także zgodą na zamieszczanie wyników turnieju w Internecie. \n8. Inne \nZa opiekę i zachowanie dzieci podczas turnieju odpowiedzialni są rodzice/opiekunowie. \nDzieci nie mogą przebywać na turnieju bez rodzica/opiekuna. Na sali gry w czasie rund przebywają tylko grające dzieci. \nORGANIZATORZY ZASTRZEGAJĄ SOBIE PRAWO DO ZMIANY ORAZ WŁASNEJ INTERPRETACJI REGULAMINU \n 
URL:https://osiedlemlodych.pl/wydarzenia/turniej-szachowy-dla-dzieci-mlode-talenty/
LOCATION:Dom Kultury „Na Pięterku”\, os. Orła Białego 5\, Poznań\, Wielkopolska\, 61-251\, Poland
CATEGORIES:Na pięterku
ATTACH;FMTTYPE=image/jpeg:https://osiedlemlodych.pl/wp-content/uploads/2024/02/projekt-bez-nazwy.jpg
END:VEVENT
END:VCALENDAR