BEGIN:VCALENDAR
VERSION:2.0
PRODID:-//Spółdzielnia Mieszkaniowa Osiedle Młodych - ECPv5.16.4//NONSGML v1.0//EN
CALSCALE:GREGORIAN
METHOD:PUBLISH
X-WR-CALNAME:Spółdzielnia Mieszkaniowa Osiedle Młodych
X-ORIGINAL-URL:https://osiedlemlodych.pl
X-WR-CALDESC:Wydarzenia dla Spółdzielnia Mieszkaniowa Osiedle Młodych
BEGIN:VTIMEZONE
TZID:Europe/Warsaw
BEGIN:DAYLIGHT
TZOFFSETFROM:+0100
TZOFFSETTO:+0200
TZNAME:CEST
DTSTART:20230326T010000
END:DAYLIGHT
BEGIN:STANDARD
TZOFFSETFROM:+0200
TZOFFSETTO:+0100
TZNAME:CET
DTSTART:20231029T010000
END:STANDARD
END:VTIMEZONE
BEGIN:VEVENT
DTSTART;TZID=Europe/Warsaw:20231104T100000
DTEND;TZID=Europe/Warsaw:20231104T160000
DTSTAMP:20260421T061120
CREATED:20230926T172506Z
LAST-MODIFIED:20231025T161521Z
UID:42867-1699092000-1699113600@osiedlemlodych.pl
SUMMARY:Turniej szachowy z okazji jubileuszu 65-lecia Spółdzielni Mieszkaniowej "Osiedle Młodych" w Poznaniu
DESCRIPTION:Zapraszamy na turniej szachowy akcentujący 65 urodziny Spółdzielni Mieszkaniowej „Osiedle Młodych” w Poznaniu. \n* System rozgrywek \nTurniej zostanie rozegrany tempem 10 minut + 5 sekund/posunięcie na dystansie 9 rund. \nTurniej zgłoszony do FIDE – obowiązują aktualne przepisy gry FIDE.\nZawodnicy z zagranicy zobowiązani są posiadać FIDE ID-CODE.\nZawodnicy niefigurujący w CR PZSzach / nieposiadający FIDE ID-CODE muszą\nwypełnić przed turniejem formularz rejestracyjny PZSzach.\nhttp://pliki.pzszach.pl/docs/druki/rejestracyjne/formularz_rejestracyjny_zawodnika.pdf \nZawodnicy niepełnoletni muszą mieć na formularzu również podpis rodziców. \n* Zgłoszenia \n\nWpisowe do turnieju wynosi 50 zł od uczestnika (płatne przed zawodami).\nZawodnicy UMKS Na Pięterku 40 zł.\nPotwierdzanie startu oraz opłacanie wpisowego w dniu zawodów w godz. 9:00- 9:45.\nZgłoszenia przyjmowane będą wyłącznie poprzez formularz zgłoszeniowy na stronie www.chessmanager.com w terminie do piątku 3.11.2023 do godz. 20.00\nPo tym terminie zgłoszenia będą przyjmowane jedynie w przypadku wolnych miejsc.\nW zgłoszeniu należy podać:  imię i nazwisko\, dokładną datę urodzenia\,\nkategorię szachową\, ranking oraz klub.\nUwaga! Liczba miejsc ograniczona. Decyduje kolejność zgłoszeń.\n\n* Nagrody \nW Turnieju Głównym – OPEN  organizatorzy zapewniają następujące nagrody finansowe: \nI miejsce          – 500 zł \nII miejsce        – 400 zł \nIII miejsce       – 300 zł \nIV miejsce       – 200 zł \nV miejsce        – 100 zł \nNajlepsza nienagrodzona kobieta – 100 zł \nNajlepszy nienagrodzony junior do lat 18 – 100 zł \nNajlepsza nienagrodzona juniorka do lat 18 – 100 zł \nNagrody dodatkowe: \nNajlepszy szachista z UMKS „Na Pięterku” Poznań – 100 zł \nNajlepsza szachistka z UMKS „Na Pięterku” Poznań – 100 zł \nPełen regulamin dostępny na stronie wydarzenia na Facebooku – https://www.facebook.com/events/313208171347245/?active_tab=discussion
URL:https://osiedlemlodych.pl/wydarzenia/turniej-szachowy-o-puchar-prezesa-sm-osiedle-mlodych/
LOCATION:Dom Kultury „Na Pięterku”\, os. Orła Białego 5\, Poznań\, Wielkopolska\, 61-251\, Poland
CATEGORIES:Na pięterku
ATTACH;FMTTYPE=image/jpeg:https://osiedlemlodych.pl/wp-content/uploads/2023/09/chess-424549-960-720.jpg
END:VEVENT
END:VCALENDAR