BEGIN:VCALENDAR
VERSION:2.0
PRODID:-//Spółdzielnia Mieszkaniowa Osiedle Młodych - ECPv5.16.4//NONSGML v1.0//EN
CALSCALE:GREGORIAN
METHOD:PUBLISH
X-WR-CALNAME:Spółdzielnia Mieszkaniowa Osiedle Młodych
X-ORIGINAL-URL:https://osiedlemlodych.pl
X-WR-CALDESC:Wydarzenia dla Spółdzielnia Mieszkaniowa Osiedle Młodych
BEGIN:VTIMEZONE
TZID:Europe/Warsaw
BEGIN:DAYLIGHT
TZOFFSETFROM:+0100
TZOFFSETTO:+0200
TZNAME:CEST
DTSTART:20250330T010000
END:DAYLIGHT
BEGIN:STANDARD
TZOFFSETFROM:+0200
TZOFFSETTO:+0100
TZNAME:CET
DTSTART:20251026T010000
END:STANDARD
END:VTIMEZONE
BEGIN:VEVENT
DTSTART;TZID=Europe/Warsaw:20251219T180000
DTEND;TZID=Europe/Warsaw:20251219T200000
DTSTAMP:20260422T020356
CREATED:20251209T114400Z
LAST-MODIFIED:20251209T114400Z
UID:54222-1766167200-1766174400@osiedlemlodych.pl
SUMMARY:"W Cybince przy choince"
DESCRIPTION:Ponownie zapraszamy na przedświąteczne spotkanie „W Cybince przy choince” skierowane do wszystkich (bez ograniczeń wiekowych)\, którzy\npragną wspólnie z nami celebrować atmosferę Świąt Bożego Narodzenia! \nPiątek 19 grudnia 2025\n18:00 – 20:00\nKlub „Cybinka” ul. Warszawska 93/95 Poznań \n\nW programie: \n\nŚwiąteczne KARAOKE z DJ & Sound\,\nRodzinne warsztaty piernikowe (Wasze ulubione!)\,\nWarsztaty tworzenia eko-ozdób świątecznych\,\nZimowa herbatka i słodkości.\n\nPrzyjdźcie całymi rodzinami i sąsiedzkimi ekipami! \nZapraszamy! \nWydarzenie zorganizowane przez Klub „Cybinka” we współpracy z Ratajskim Centrum Kultury oraz Spółdzielnią Mieszkaniową „Osiedle Młodych” w Poznaniu w ramach projektu „Bliżej Kultury\, Bliżej Siebie” dofinansowanego ze środków budżetowych Miasta Poznania.
URL:https://osiedlemlodych.pl/wydarzenia/w-cybince-przy-choince/
LOCATION:Klub „Cybinka”\, ul. Warszawska 93/95\, Poznań\, Wielkopolska\, 61-031\, Poland
CATEGORIES:Klub Cybinka
ATTACH;FMTTYPE=image/png:https://osiedlemlodych.pl/wp-content/uploads/2025/12/wcybincewww.png
END:VEVENT
END:VCALENDAR