BEGIN:VCALENDAR
VERSION:2.0
PRODID:-//Spółdzielnia Mieszkaniowa Osiedle Młodych - ECPv5.16.4//NONSGML v1.0//EN
CALSCALE:GREGORIAN
METHOD:PUBLISH
X-WR-CALNAME:Spółdzielnia Mieszkaniowa Osiedle Młodych
X-ORIGINAL-URL:https://osiedlemlodych.pl
X-WR-CALDESC:Wydarzenia dla Spółdzielnia Mieszkaniowa Osiedle Młodych
BEGIN:VTIMEZONE
TZID:Europe/Warsaw
BEGIN:DAYLIGHT
TZOFFSETFROM:+0100
TZOFFSETTO:+0200
TZNAME:CEST
DTSTART:20240331T010000
END:DAYLIGHT
BEGIN:STANDARD
TZOFFSETFROM:+0200
TZOFFSETTO:+0100
TZNAME:CET
DTSTART:20241027T010000
END:STANDARD
END:VTIMEZONE
BEGIN:VEVENT
DTSTART;TZID=Europe/Warsaw:20240215T170000
DTEND;TZID=Europe/Warsaw:20240215T174500
DTSTAMP:20260421T115840
CREATED:20240207T131057Z
LAST-MODIFIED:20240208T092554Z
UID:44952-1708016400-1708019100@osiedlemlodych.pl
SUMMARY:Walentynkowe Warsztaty w Laboratorium Młodego Naukowca
DESCRIPTION:Zapraszamy na niesamowite spotkanie z chemią tym razem w BeautyLabo!\nPoznamy proste\, ale niezwykle efektowne zjawiska stosowane przy produkcji kosmetyków i stworzymy własny produkt\, który będziemy mogli podarować osobie\, którą kochamy lub sami stworzyć w domu walentynkowy klimat. \n\n𝐙𝐀𝐏𝐈𝐒𝐘:\n laboratorium.mlodego.naukowca@gmail.com\n 790 716 525\nKoszt: 35 zł
URL:https://osiedlemlodych.pl/wydarzenia/walentynkowe-warsztaty-w-laboratorium-mlodego-naukowca/
CATEGORIES:Polan Sto
ATTACH;FMTTYPE=image/png:https://osiedlemlodych.pl/wp-content/uploads/2024/02/zdjecie-strona5.png
END:VEVENT
END:VCALENDAR