BEGIN:VCALENDAR
VERSION:2.0
PRODID:-//Spółdzielnia Mieszkaniowa Osiedle Młodych - ECPv5.16.4//NONSGML v1.0//EN
CALSCALE:GREGORIAN
METHOD:PUBLISH
X-WR-CALNAME:Spółdzielnia Mieszkaniowa Osiedle Młodych
X-ORIGINAL-URL:https://osiedlemlodych.pl
X-WR-CALDESC:Wydarzenia dla Spółdzielnia Mieszkaniowa Osiedle Młodych
BEGIN:VTIMEZONE
TZID:Europe/Warsaw
BEGIN:DAYLIGHT
TZOFFSETFROM:+0100
TZOFFSETTO:+0200
TZNAME:CEST
DTSTART:20230326T010000
END:DAYLIGHT
BEGIN:STANDARD
TZOFFSETFROM:+0200
TZOFFSETTO:+0100
TZNAME:CET
DTSTART:20231029T010000
END:STANDARD
END:VTIMEZONE
BEGIN:VEVENT
DTSTART;TZID=Europe/Warsaw:20231124T170000
DTEND;TZID=Europe/Warsaw:20231124T190000
DTSTAMP:20260419T183643
CREATED:20231006T125449Z
LAST-MODIFIED:20231106T162331Z
UID:43071-1700845200-1700852400@osiedlemlodych.pl
SUMMARY:WARSZTATY MAJSTERKOWANIA - drewniane lampiony adwentowe
DESCRIPTION:Twórcze warsztaty\, podczas których dzieci przy użyciu prawdziwych narzędzi – młotków\, piłek\, wkrętarek\, ścisków stolarskich i wykorzystując prawdziwe materiały – listwy\, deski\, gwoździe – wykonują ekscytujące konstrukcje. A wszystko w oparciu o unikatowe instrukcje KnockKnock. \nMarka KnockKnock zrodziła się z obserwacji zarówno dzieci\, jak i ogólnie ludzi. Każdy z nas ma pragnienie tworzenia. Patrząc na dzieci można to dostrzec w szczególny sposób. Same narzędzia budzą już u dzieci zainteresowanie i chęć działania. Tworząc budują one swoją kreatywność. Dzięki odpowiednio przygotowanym instrukcjom uczą się również rozwiązywać twórczo problemy\, poznają zagadnienia matematyczne. Co ważne podczas zajęć dzieci niczego nie symulują\, tworzą realne modele\, które po stworzeniu zabierają ze sobą. \n\n  \nLiczba miejsc ograniczona! Konieczna wcześniejsza rezerwacja!\nRezerwacji dokonywać można telefonicznie (61 877 78 42) lub mailowo (dkorlegniazdo@gmail.com).
URL:https://osiedlemlodych.pl/wydarzenia/warsztat-majsterkowania/
LOCATION:Dom Kultury „Orle Gniazdo”\, os. Lecha 43\, Poznań\, Wielkopolskie\, 61-294\, Polska
CATEGORIES:Orle Gniazdo
ATTACH;FMTTYPE=image/jpeg:https://osiedlemlodych.pl/wp-content/uploads/2023/10/narzedzia-1024x683-1.jpg
END:VEVENT
END:VCALENDAR