BEGIN:VCALENDAR
VERSION:2.0
PRODID:-//Spółdzielnia Mieszkaniowa Osiedle Młodych - ECPv5.16.4//NONSGML v1.0//EN
CALSCALE:GREGORIAN
METHOD:PUBLISH
X-WR-CALNAME:Spółdzielnia Mieszkaniowa Osiedle Młodych
X-ORIGINAL-URL:https://osiedlemlodych.pl
X-WR-CALDESC:Wydarzenia dla Spółdzielnia Mieszkaniowa Osiedle Młodych
BEGIN:VTIMEZONE
TZID:Europe/Warsaw
BEGIN:DAYLIGHT
TZOFFSETFROM:+0100
TZOFFSETTO:+0200
TZNAME:CEST
DTSTART:20230326T010000
END:DAYLIGHT
BEGIN:STANDARD
TZOFFSETFROM:+0200
TZOFFSETTO:+0100
TZNAME:CET
DTSTART:20231029T010000
END:STANDARD
END:VTIMEZONE
BEGIN:VEVENT
DTSTART;TZID=Europe/Warsaw:20230401T110000
DTEND;TZID=Europe/Warsaw:20230401T120000
DTSTAMP:20260423T000018
CREATED:20230308T150145Z
LAST-MODIFIED:20230308T152134Z
UID:39296-1680346800-1680350400@osiedlemlodych.pl
SUMMARY:Warsztaty dla dzieci "Ceramiczne zawieszki świąteczne"
DESCRIPTION:Zapraszamy dzieci w wieku 5-11 lat na wielkanocne warsztaty „Ceramiczne zawieszki świąteczne”. \nDzieci użyją białej glinki\, z której wyczarują świąteczne zawieszki.  Nadadzą im kształty i ciekawe faktury\, tak aby później posłużyły jako wspaniała wielkanocna dekoracja. Nasze warsztaty to doskonała okazja do relaksu – praca z gliną należy do bardzo odprężających i przyjemnych zadań. \nSobota 1.04.23 godzina 11:00. \nkoszt: 40 zł. \nCzas trwania zajęć to około 60 minut. \n  \n 
URL:https://osiedlemlodych.pl/wydarzenia/warsztaty-dla-dzieci-ceramiczne-zawieszki-swiateczne/
LOCATION:Dom Kultury „Na Pięterku”\, os. Orła Białego 5\, Poznań\, Wielkopolska\, 61-251\, Poland
CATEGORIES:Na pięterku
ATTACH;FMTTYPE=image/jpeg:https://osiedlemlodych.pl/wp-content/uploads/2023/03/rabbit-4093851-960-720.jpg
END:VEVENT
END:VCALENDAR