BEGIN:VCALENDAR
VERSION:2.0
PRODID:-//Spółdzielnia Mieszkaniowa Osiedle Młodych - ECPv5.16.4//NONSGML v1.0//EN
CALSCALE:GREGORIAN
METHOD:PUBLISH
X-WR-CALNAME:Spółdzielnia Mieszkaniowa Osiedle Młodych
X-ORIGINAL-URL:https://osiedlemlodych.pl
X-WR-CALDESC:Wydarzenia dla Spółdzielnia Mieszkaniowa Osiedle Młodych
BEGIN:VTIMEZONE
TZID:Europe/Warsaw
BEGIN:DAYLIGHT
TZOFFSETFROM:+0100
TZOFFSETTO:+0200
TZNAME:CEST
DTSTART:20240331T010000
END:DAYLIGHT
BEGIN:STANDARD
TZOFFSETFROM:+0200
TZOFFSETTO:+0100
TZNAME:CET
DTSTART:20241027T010000
END:STANDARD
END:VTIMEZONE
BEGIN:VEVENT
DTSTART;TZID=Europe/Warsaw:20240309T100000
DTEND;TZID=Europe/Warsaw:20240309T120000
DTSTAMP:20260422T092754
CREATED:20240226T144901Z
LAST-MODIFIED:20240314T171511Z
UID:45278-1709978400-1709985600@osiedlemlodych.pl
SUMMARY:WARSZTATY PSYCHOEDUKACYJNE DLA RODZICÓW: "Czas na zmiany"
DESCRIPTION:Zapraszamy na warsztaty dla rodziców\, które odbędą się w ramach cyklu warsztatów psychoedukacyjnych dla dzieci\, młodzieży i rodziców. \nSpotkania pomogą rodzicom lepiej zrozumieć potrzeby psychoseksualne ich dzieci w okresie adolescencji. Będzie to okazja do rozwoju kompetencji rodzicielskich\, w tym umiejętności radzenia sobie z potencjalnymi trudnościami związanymi z dorastaniem dziecka. Celem każdego spotkania jest doskonalenie kompetencji rodzicielskich\, rozwijanie umiejętności w zakresie wspierania dziecka w rozwoju umiejętności komunikacyjnych. \nZaplanowane tematy:  \n1/CZAS NA ZMIANY / 9 marca \nZakres programowy: Rozwój fizyczny\, Wychowanie seksualne\, Rozwój emocjonalny\, Rozwój społeczny  \n2/POTRZEBY ROZWOJOWE NASTOLATKA/ 6 kwietnia \n Zakres programowy: Potrzeby dorastającego dziecka\, Życie rodzinne kontra grupa rówieśnicza\, Zdrowie i dobra forma\, Jak budować dobre relacje z nastolatkiem?  \n3/JAK WSPIERAĆ NASTOLATKA W BUDOWANIU POZYTYWNEJ SAMOOCENY?/ 25 maja \nZakres programowy: Przekazywanie pozytywnej informacji zwrotnej\, Koncentrowanie się na kompetencjach i możliwościach\, Zauważanie pozytywnych zmian\, Dobre nawyki zamiast zasad  \n4/POROZUMIENIE Z NASTOLATKIEM. DLACZEGO KOMUNIKACJA JEST TAK ISTOTNA?/ 22 czerwca \n Zakres programowy: Znaczenie języka\, Metodologia konwersacji\, Jak zachęcić nastolatka do współpracy?  \n5/NASTOLATEK W KRYZYSIE – ZABURZENIA LĘKOWE I DEPRESYJNE/ 21 września \nZakres programowy: Zaburzenia lękowe. Wspieranie nastolatka w radzeniu sobie z niepokojem\, Depresja dzieci i młodzieży\, Depresja u nastolatków a ryzyko samobójcze  \n6/ROZWIĄZYWANIE KONFLIKTÓW NA LINII RODZIC-DORASTAJĄCE DZIECKO/ 12 października \n Zakres programowy: Konflikt pokoleń\, Negocjacje i kompromis\, Rozwiązywanie problemów i reagowanie w pomocny sposób  \n7/KIEDY KOŃCZY SIĘ WYCHOWANIE?/ 9 listopada \n Zakres programowy: Etapy i wyzwania rozwojowe\, Moje dziecko rozwija skrzydła\, Rodzic w syndromie pustego gniazda  \n8/WARSZTATY ROZWOJOWE DLA RODZICÓW/ 7 grudnia \n Zakres programowy: Ja w roli rodzica\, Ja i moje nadzieje\, Ja dziś i jutro  \nO prowadzącej:\nWioletta Wardziak-Lubka  \nPsycholożka i psychoterapeutka z doświadczeniem pracy w różnych kontekstach pomagania i z Klientem w każdym wieku. Dyplomowany doradca zawodowy i manager HR. Współzałożycielka W DOBRYM KIERUNKU Centrum terapii i rozwoju – miejsca na mapie Poznania\, które świadczy kompleksową pomoc psychologiczną i pedagogiczną.  Jest certyfikowanym terapeutą Terapii Skoncentrowanej na Rozwiązaniach (TSR). Posiada wieloletnie doświadczenie w prowadzeniu poradnictwa psychologicznego\, pracy terapeutycznej i szkoleniowej oraz w mediacjach i interwencji kryzysowej. Swoje kompetencje rozwijała pracując w jednostkach wojskowych i szkołach\, współpracując z placówkami służby zdrowia oraz prowadząc szkolenia i warsztaty dla różnych grup zawodowych. Obecnie pracuje konsultacyjnie i terapeutycznie z dziećmi\, młodzieżą i dorosłymi. Prowadzi psychoterapię indywidualną\, par i małżeństw oraz poradnictwo dla rodziców. Udziela również kwalifikowanej pomocy psychologicznej w ramach funkcjonujących w firmach programów wsparcia pracowników (I-EAP®). W myśl głównej idei TSR stara się być ekspertem od swojego życia. Jest w permanentnym ruchu\, wciąż szuka nowych inspiracji\, rozwija przedsiębiorczość. Ludzie mówią o niej\, że łączy w sobie rozsądek i wysoką wrażliwość emocjonalną. Prywatnie żona\, mama i „pańcia” cudownej suczki i figlarnej kotki. Kocha swoich synów bezwarunkowo i próbuje  sprostać codziennym wyzwaniom roli mamy nastolatków. \nOrganizatorem warsztatów jest Ratajskie Centrum Kultury\, a partnerem: Spółdzielnia Mieszkaniowa „Osiedle Młodych” w Poznaniu i Dom Kultury „Orle Gniazdo”. Wydarzenie zostało dofinansowane ze środków budżetowych Miasto Poznań
URL:https://osiedlemlodych.pl/wydarzenia/warsztaty-dla-rodzicow-zrozumiec-nastolatka-kiedy-konczy-sie-wychowanie-spotkanie-pierwsze-czas-na-zmiany/
LOCATION:Dom Kultury „Orle Gniazdo”\, os. Lecha 43\, Poznań\, Wielkopolskie\, 61-294\, Polska
CATEGORIES:Orle Gniazdo
ATTACH;FMTTYPE=image/png:https://osiedlemlodych.pl/wp-content/uploads/2024/02/orle-gniazdo-4.png
END:VEVENT
END:VCALENDAR