BEGIN:VCALENDAR
VERSION:2.0
PRODID:-//Spółdzielnia Mieszkaniowa Osiedle Młodych - ECPv5.16.4//NONSGML v1.0//EN
CALSCALE:GREGORIAN
METHOD:PUBLISH
X-WR-CALNAME:Spółdzielnia Mieszkaniowa Osiedle Młodych
X-ORIGINAL-URL:https://osiedlemlodych.pl
X-WR-CALDESC:Wydarzenia dla Spółdzielnia Mieszkaniowa Osiedle Młodych
BEGIN:VTIMEZONE
TZID:Europe/Warsaw
BEGIN:DAYLIGHT
TZOFFSETFROM:+0100
TZOFFSETTO:+0200
TZNAME:CEST
DTSTART:20260329T010000
END:DAYLIGHT
BEGIN:STANDARD
TZOFFSETFROM:+0200
TZOFFSETTO:+0100
TZNAME:CET
DTSTART:20261025T010000
END:STANDARD
END:VTIMEZONE
BEGIN:VEVENT
DTSTART;TZID=Europe/Warsaw:20260116T170000
DTEND;TZID=Europe/Warsaw:20260116T170000
DTSTAMP:20260422T034629
CREATED:20251217T150548Z
LAST-MODIFIED:20251217T150655Z
UID:54341-1768582800-1768582800@osiedlemlodych.pl
SUMMARY:Warsztaty herbaciane
DESCRIPTION:Serdecznie zapraszamy na wyjątkowe warsztaty herbaciane! \nPodczas spotkania odbędzie się prelekcja poświęcona odpowiedniemu zaparzaniu herbat oraz właściwościom zdrowotnym ziół. Uczestnicy dowiedzą się\, jak prawidłowo przygotowywać napary\, aby wydobyć z nich pełnię smaku i cennych składników. W trakcie warsztatów będzie możliwość stworzenia własnych\, oryginalnych mieszanek ziołowych\, łączonych z wybranymi herbatami. Całość uzupełni praktyczna część – wspólne zaparzanie herbat oraz degustacja przygotowanych naparów. \nWarsztaty poprowadzi Ewa Komorowska – magister biologii eksperymentalnej\, technik farmaceutyczny\, dietetyk i fitoterapeutka. Jest członkinią Stowarzyszenia Klub Herbaty Zaparzaj\, organizatorką Festiwalu Herbaty Zaparzaj oraz koordynatorką Dnia Herbaty w Palmiarni. Od 2014 roku prowadzi warsztaty herbaciane i zielarskie\, obejmujące edukację z zakresu fitoterapii\, tworzenie mieszanek ziołowych\, interakcje ziół z lekami i dietą\, spacery ziołowe\, klasyfikację herbat\, techniki ich parzenia oraz tradycje i rytuały związane z herbatą. \n 
URL:https://osiedlemlodych.pl/wydarzenia/warsztaty-herbaciane/
LOCATION:Dom Kultury „Jagiellonka”\, os. Jagiellońskie 120\, Poznań\, Polska
CATEGORIES:Jagiellonka
ATTACH;FMTTYPE=image/png:https://osiedlemlodych.pl/wp-content/uploads/2025/12/warsztaty-herbaciane.png
END:VEVENT
END:VCALENDAR