BEGIN:VCALENDAR
VERSION:2.0
PRODID:-//Spółdzielnia Mieszkaniowa Osiedle Młodych - ECPv5.16.4//NONSGML v1.0//EN
CALSCALE:GREGORIAN
METHOD:PUBLISH
X-WR-CALNAME:Spółdzielnia Mieszkaniowa Osiedle Młodych
X-ORIGINAL-URL:https://osiedlemlodych.pl
X-WR-CALDESC:Wydarzenia dla Spółdzielnia Mieszkaniowa Osiedle Młodych
BEGIN:VTIMEZONE
TZID:Europe/Warsaw
BEGIN:DAYLIGHT
TZOFFSETFROM:+0100
TZOFFSETTO:+0200
TZNAME:CEST
DTSTART:20250330T010000
END:DAYLIGHT
BEGIN:STANDARD
TZOFFSETFROM:+0200
TZOFFSETTO:+0100
TZNAME:CET
DTSTART:20251026T010000
END:STANDARD
END:VTIMEZONE
BEGIN:VEVENT
DTSTART;TZID=Europe/Warsaw:20250609T120000
DTEND;TZID=Europe/Warsaw:20250609T143000
DTSTAMP:20260421T181126
CREATED:20250519T122756Z
LAST-MODIFIED:20250519T122809Z
UID:51476-1749470400-1749479400@osiedlemlodych.pl
SUMMARY:Warsztaty makijażu dla kobiet dojrzałych (cz. 2) w ramach cyklu Ratajski Przystanek Seniora
DESCRIPTION:Zapraszamy na cykl 2 spotkań warsztatowych (2.06 i 9.06)\, podczas których Seniorki poznają w teorii i praktyce podstawy właściwej pielęgnacji skóry\, odpowiedniego demakijażu oraz automasażu twarzy oraz otrzymają podstawowe wskazówki\, jak samodzielnie wykonać makijaż użytkowy.*  \nWarsztaty poprowadzi Paulina Chmioła-Schönknecht – wizażystka\, stylistka i charakteryzatorka; swoje 14-letnie doświadczenie zdobyła na planach zdjęciowych\, filmowych na różnego rodzajach eventach makijażowych oraz przy współpracy z wieloma markami z branży beauty\, jak i przy makijażach prywatnych.\nW tym projekcie misją Pani Pauliny jest edukowanie kobiet w wieku dojrzałym\, jak  – prostymi sposobami w domowym zaciszu – poprawić samopoczucie i pewność siebie oraz poczuć się bardziej atrakcyjnie na co dzień.   \n*Prosimy o zabranie własnych kosmetyczek. \nWydarzenie bezpłatne – obowiązują zapisy telefoniczne lub mailowe.\nWydarzenie odbędzie się w ramach cyklu Ratajski Przystanek Seniora\, którego organizatorem jest Stowarzyszenie Ratajskie Centrum Kultury.\nSfinansowano ze środków budżetowych Miasta Poznania.\n#poznanwspiera
URL:https://osiedlemlodych.pl/wydarzenia/warsztaty-makijazu-dla-kobiet-dojrzalych-cz-2-w-ramach-cyklu-ratajski-przystanek-seniora/
CATEGORIES:DOMY KULTURY,Jędruś
ATTACH;FMTTYPE=image/jpeg:https://osiedlemlodych.pl/wp-content/uploads/2025/05/smiley-mature-woman-posing-with-make-up-brushes.jpg
END:VEVENT
END:VCALENDAR