BEGIN:VCALENDAR
VERSION:2.0
PRODID:-//Spółdzielnia Mieszkaniowa Osiedle Młodych - ECPv5.16.4//NONSGML v1.0//EN
CALSCALE:GREGORIAN
METHOD:PUBLISH
X-WR-CALNAME:Spółdzielnia Mieszkaniowa Osiedle Młodych
X-ORIGINAL-URL:https://osiedlemlodych.pl
X-WR-CALDESC:Wydarzenia dla Spółdzielnia Mieszkaniowa Osiedle Młodych
BEGIN:VTIMEZONE
TZID:Europe/Warsaw
BEGIN:DAYLIGHT
TZOFFSETFROM:+0100
TZOFFSETTO:+0200
TZNAME:CEST
DTSTART:20250330T010000
END:DAYLIGHT
BEGIN:STANDARD
TZOFFSETFROM:+0200
TZOFFSETTO:+0100
TZNAME:CET
DTSTART:20251026T010000
END:STANDARD
END:VTIMEZONE
BEGIN:VEVENT
DTSTART;TZID=Europe/Warsaw:20251115T140000
DTEND;TZID=Europe/Warsaw:20251115T160000
DTSTAMP:20260422T035409
CREATED:20250925T153642Z
LAST-MODIFIED:20251020T171843Z
UID:53057-1763215200-1763222400@osiedlemlodych.pl
SUMMARY:Warsztaty piosenki kabaretowej dla Seniorek i Seniorów - spotkanie nr 4 (próba generalna)
DESCRIPTION:Wszystkich\, którzy dotychczas uczęszczali na warsztaty piosenki kabaretowej dla Seniorek i Seniorów serdecznie zapraszamy na próbę generalną przed koncertem finałowym! \nTerminy spotkań: \n\n12 września\, g. 16:00 – 18:00 – wspólna integracja muzyczna\, ćwiczenia wokalne\, wybór repertuaru\, wstępna praca nad repertuarem\n26 września\, g. 16:00 – 19:00 – ćwiczenia wokalne\, praca nad repertuarem zbiorowym i solowym; praca nad aktorską interpretacją piosenek\n17 października\, g. 16:00 – 19:00 – ćwiczenia wokalne\, praca indywidualna nad piosenkami oraz całościowe podejście do koncertu\n15 listopada\, g. 14:00 – 16:00 – próba generalna przed koncertem\n15 listopada\, g. 17:30 – koncert finałowy z udziałem uczestniczek i uczestników warsztatów – wstęp wolny!\n\nWarsztaty poprowadzą członkowie znanego i lubianego Klubu Szyderców Bis. \nO prowadzących warsztaty: \nKlub Szyderców Bis to poznański kabaret\, nawiązujący stylistyką do kabaretów międzywojnia. Specjalizują się w piosence\, a jego twórcy wielokrotnie odnosili sukcesy w dziedzinie piosenki literackiej. Do Szyderców należą: Dominika Dobrosielska (wokalistka)\, Krzysztof Dziuba (aktor\, wokalista)\, Przemek Mazurek (autor scenariuszy\, kompozytor\, autor tekstów i wykonawca)\, Bartłomiej Brede (poeta\, konferansjer) oraz Michał Ruksza (multiinstrumentalista i kompozytor). Działając od 2015 r. dali się poznać zarówno poznańskiej publiczności (m.in. na koncertach z cyklu Śpiewamy Polskie Piosenki i Wieczorach z Piosenką Nieobojętną)\, jak i ogólnopolskiej (udział i nagrody na festiwalach: PAKA 2018\, OSPA 2017 i 2018). Ich pierwszy program „Czyj ten benefis?” to zabawna parodia benefisu właśnie\, natomiast jesienią 2018 r. miała miejsce premiera ich drugiego spektaklu pt. „ZIELONY BAtaLiONIK czyli kabaret na froncie”\, nawiązującego do twórczości pierwszych polskich kabaretów. W 2019 r. zaprezentowali poznańskiej publiczności spektakl teatralny „Uczta Szyderców” (wspólnie z Teatrem Animacji) oraz „Cyrk przyjechał” (w reżyserii Krzysztofa Deszczyńskiego) – spektakl nawiązujący do twórczości Bohdana Smolenia. W 2022 zostali laureatami Mazurskiego Lata Kabaretowego „Mulatka” w Ełku oraz Festiwalu Kabaretów Fermenty w Bielsku-Białej za program „Muzeum dobrej zmiany”. \nWarsztaty odbywają się w ramach projektu Ratajski Przystanek Seniora organizowanego przez Ratajskie Centrum Kultury we współpracy z domami kultury Spółdzielni Mieszkaniowej „Osiedle Młodych”. Dofinansowano ze środków budżetowych Miasta Poznania.
URL:https://osiedlemlodych.pl/wydarzenia/warsztaty-piosenki-kabaretowej-dla-seniorek-i-seniorow-spotkanie-nr-4/
LOCATION:Klub „Cybinka”\, ul. Warszawska 93/95\, Poznań\, Wielkopolska\, 61-031\, Poland
CATEGORIES:Klub Cybinka
ATTACH;FMTTYPE=image/jpeg:https://osiedlemlodych.pl/wp-content/uploads/2025/09/wpk-www-1.jpg
ORGANIZER;CN="Klub%20%22Cybinka%22":MAILTO:cybinka@osiedlemlodych.pl
END:VEVENT
END:VCALENDAR