BEGIN:VCALENDAR
VERSION:2.0
PRODID:-//Spółdzielnia Mieszkaniowa Osiedle Młodych - ECPv5.16.4//NONSGML v1.0//EN
CALSCALE:GREGORIAN
METHOD:PUBLISH
X-WR-CALNAME:Spółdzielnia Mieszkaniowa Osiedle Młodych
X-ORIGINAL-URL:https://osiedlemlodych.pl
X-WR-CALDESC:Wydarzenia dla Spółdzielnia Mieszkaniowa Osiedle Młodych
BEGIN:VTIMEZONE
TZID:Europe/Warsaw
BEGIN:DAYLIGHT
TZOFFSETFROM:+0100
TZOFFSETTO:+0200
TZNAME:CEST
DTSTART:20220327T010000
END:DAYLIGHT
BEGIN:STANDARD
TZOFFSETFROM:+0200
TZOFFSETTO:+0100
TZNAME:CET
DTSTART:20221030T010000
END:STANDARD
END:VTIMEZONE
BEGIN:VEVENT
DTSTART;TZID=Europe/Warsaw:20221128T163000
DTEND;TZID=Europe/Warsaw:20221128T190000
DTSTAMP:20260422T020834
CREATED:20221005T172202Z
LAST-MODIFIED:20221005T172202Z
UID:36521-1669653000-1669662000@osiedlemlodych.pl
SUMMARY:Warsztaty psychologiczne dla dzieci i młodzieży – Arteterapia
DESCRIPTION:Serdecznie zapraszamy na kontynuację cyklu warsztatów dla dzieci i młodzieży\, na których pragniemy dać Ci szansę na lepsze poznanie siebie. Mamy nadzieję\, że wychodząc po warsztacie\, odczujesz na własnej skórze\, że jesteś bogatszy nie tylko o nową wiedzę… ale przede wszystkim o praktyczne i pomocne narzędzia do radzenia sobie na co dzień. \n\nWarsztaty poprowadzą psycholożki: Nicola Wrębiak i Wiktoria Zielińska. \n\n  \nDo udziału w warsztatach zapraszamy dzieci i młodzież w wieku 9-15 lat: \n\n\n*  godz. 16:30 – 17:30 (9-12 lat)\n \n*  godz. 18:00 – 19:00 (13-15 lat)\n \n  \nRezerwacji miejsc można dokonać telefonicznie (tel. 61 877 78 42) lub mailowo (dkorlegniazdo@gmail.com). \n  \nOrganizatorami warsztatów są Ratajskie Centrum Kultury oraz Dom Kultury „Orle Gniazdo”. Dofinansowano z środków budżetowych Miasta Poznania #poznanwspiera
URL:https://osiedlemlodych.pl/wydarzenia/warsztaty-psychologiczne-dla-dzieci-i-mlodziezy-arteterapia/
LOCATION:Dom Kultury „Orle Gniazdo”\, os. Lecha 43\, Poznań\, Wielkopolskie\, 61-294\, Polska
CATEGORIES:Orle Gniazdo
ATTACH;FMTTYPE=image/jpeg:https://osiedlemlodych.pl/wp-content/uploads/2022/10/264838263-223955343226526-3644239753554629564-n.jpg
END:VEVENT
END:VCALENDAR