BEGIN:VCALENDAR
VERSION:2.0
PRODID:-//Spółdzielnia Mieszkaniowa Osiedle Młodych - ECPv5.16.4//NONSGML v1.0//EN
CALSCALE:GREGORIAN
METHOD:PUBLISH
X-WR-CALNAME:Spółdzielnia Mieszkaniowa Osiedle Młodych
X-ORIGINAL-URL:https://osiedlemlodych.pl
X-WR-CALDESC:Wydarzenia dla Spółdzielnia Mieszkaniowa Osiedle Młodych
BEGIN:VTIMEZONE
TZID:Europe/Warsaw
BEGIN:DAYLIGHT
TZOFFSETFROM:+0100
TZOFFSETTO:+0200
TZNAME:CEST
DTSTART:20220327T010000
END:DAYLIGHT
BEGIN:STANDARD
TZOFFSETFROM:+0200
TZOFFSETTO:+0100
TZNAME:CET
DTSTART:20221030T010000
END:STANDARD
END:VTIMEZONE
BEGIN:VEVENT
DTSTART;TZID=Europe/Warsaw:20220411T163000
DTEND;TZID=Europe/Warsaw:20220411T190000
DTSTAMP:20260422T035410
CREATED:20220302T175701Z
LAST-MODIFIED:20220324T094152Z
UID:33539-1649694600-1649703600@osiedlemlodych.pl
SUMMARY:Warsztaty psychologiczne dla dzieci i młodzieży – Na straży swoich granic on/offline
DESCRIPTION:Serdecznie zapraszamy na cykl warsztatów dla dzieci i młodzieży\, na których pragniemy dać Ci szansę na lepsze poznanie siebie. Mamy nadzieję\, że wychodząc po warsztacie\, odczujesz na własnej skórze\, że jesteś bogatszy nie tylko o nową wiedzę… ale przede wszystkim o praktyczne i pomocne narzędzia do radzenia sobie na co dzień. \nW życiu nie wszystko idzie zgodnie z naszym planem. Bo przecież wśród sukcesów zawsze pojawiają się gorsze chwile. Grunt to mieć umiejętności do podnoszenia się z nich i obracania ich w sukces. \nObalmy mity porażki i zacznijmy działać! \nDo udziału w warsztatach zapraszamy dzieci i młodzież w wieku 9-15 lat: \n\n\n*  godz. 16:30 – 17:30 (grupa 1)\n \n*  godz. 18:00 – 19:00 (grupa 2)\n \n  \nRezerwacji miejsc można dokonać telefonicznie (tel. 61 877 78 42) lub mailowo (dkorlegniazdo@gmail.com). \n  \nOrganizatorami warsztatów są Ratajskie Centrum Kultury oraz Dom Kultury „Orle Gniazdo”. Dofinansowano z środków budżetowych Miasta Poznania #poznanwspiera
URL:https://osiedlemlodych.pl/wydarzenia/warsztaty-psychologiczne-dla-dzieci-i-mlodziezy-na-strazy-swoich-granic-on-offline/
LOCATION:Dom Kultury „Orle Gniazdo”\, os. Lecha 43\, Poznań\, Wielkopolskie\, 61-294\, Polska
CATEGORIES:Orle Gniazdo
ATTACH;FMTTYPE=image/jpeg:https://osiedlemlodych.pl/wp-content/uploads/2022/03/smartfon-jest-skuty-kajdankami-w-dloni-malego-chlopca-symbol-naduzywania-technologii-wysoka-rozdzielczosc-544249-2116.jpg
END:VEVENT
END:VCALENDAR