BEGIN:VCALENDAR
VERSION:2.0
PRODID:-//Spółdzielnia Mieszkaniowa Osiedle Młodych - ECPv5.16.4//NONSGML v1.0//EN
CALSCALE:GREGORIAN
METHOD:PUBLISH
X-WR-CALNAME:Spółdzielnia Mieszkaniowa Osiedle Młodych
X-ORIGINAL-URL:https://osiedlemlodych.pl
X-WR-CALDESC:Wydarzenia dla Spółdzielnia Mieszkaniowa Osiedle Młodych
BEGIN:VTIMEZONE
TZID:Europe/Warsaw
BEGIN:DAYLIGHT
TZOFFSETFROM:+0100
TZOFFSETTO:+0200
TZNAME:CEST
DTSTART:20220327T010000
END:DAYLIGHT
BEGIN:STANDARD
TZOFFSETFROM:+0200
TZOFFSETTO:+0100
TZNAME:CET
DTSTART:20221030T010000
END:STANDARD
END:VTIMEZONE
BEGIN:VEVENT
DTSTART;TZID=Europe/Warsaw:20220328T163000
DTEND;TZID=Europe/Warsaw:20220328T190000
DTSTAMP:20260422T003455
CREATED:20211004T124731Z
LAST-MODIFIED:20220316T163620Z
UID:31539-1648485000-1648494000@osiedlemlodych.pl
SUMMARY:Warsztaty psychologiczne dla dzieci i młodzieży – Odkryj swój talent
DESCRIPTION:Serdecznie zapraszamy na cykl warsztatów dla dzieci i młodzieży\, na których pragniemy dać Ci szansę na lepsze poznanie siebie. Mamy nadzieję\, że wychodząc po warsztacie\, odczujesz na własnej skórze\, że jesteś bogatszy nie tylko o nową wiedzę… ale przede wszystkim o praktyczne i pomocne narzędzia do radzenia sobie na co dzień. \nW życiu nie wszystko idzie zgodnie z naszym planem. Bo przecież wśród sukcesów zawsze pojawiają się gorsze chwile. Grunt to mieć umiejętności do podnoszenia się z nich i obracania ich w sukces. \nObalmy mity porażki i zacznijmy działać! \nKażdego z nas często nurtują pytania: „jaki jest właściwie mój talent?”\, „jakie są moje mocne strony?”\, „jak mogę je znaleźć?”. Zastanawiając się nad tym bardzo łatwo możemy się pogubić\, szczególnie w świecie pełnym ludzi sukcesu i pasji. Warsztat „Odkryj swój największy talent” stworzony jest dla dzieci i młodzież szukających i chcących bliżej poznać siebie. Sam udział w tym spotkaniu to duży krok do bliższego poznania swojego wnętrza w oparciu o to co ważne. Pokażemy Tobie jak szukać i gdzie szukać wskazówek i wspólnie zajmiemy się odkrywaniem! Podczas warsztatu poznasz mnóstwo przydatnych technik i narzędzi\, a przy okazji będziemy się świetnie bawić 😊 \nDodatkowo poruszymy takie kwestie jak: \n• Po czym poznać\, że znalazłem właśnie TO? \n• Jak odważyć się szukać dalej\, pomimo wielu niepowodzeń? \n• Jak inni mogą mi pomóc w znajdowaniu tego\, co dla mnie ważne? \n• Jak skutecznie i bezpiecznie testować nowe możliwości? \n• Czy sam talent wystarczy by osiągnąć sukces? \nDo udziału w warsztatach zapraszamy dzieci i młodzież w wieku 9-15 lat: \n\n\n* godz. 16:30 – 17:30 (grupa 1)\n \n* godz. 18:00 – 19:30 (grupa 2)\n \n  \nRezerwacji miejsc można dokonać telefonicznie (tel. 61 877 78 42) lub mailowo (dkorlegniazdo@gmail.com). \n  \nOrganizatorami warsztatów są Ratajskie Centrum Kultury oraz Dom Kultury „Orle Gniazdo”. Dofinansowano z środków budżetowych Miasta Poznania #poznanwspiera \n 
URL:https://osiedlemlodych.pl/wydarzenia/warsztaty-psychologiczne-dla-dzieci-i-mlodziezy-odkryj-swoj-najwiekszy-talent/
LOCATION:Dom Kultury „Orle Gniazdo”\, os. Lecha 43\, Poznań\, Wielkopolskie\, 61-294\, Polska
CATEGORIES:Orle Gniazdo
ATTACH;FMTTYPE=image/webp:https://osiedlemlodych.pl/wp-content/uploads/2021/10/troszke-blondynki-dziewczyny-seansu-rysujacy-dom-na-papierze-jej-zenski-psycholog-23-2148026288.webp
END:VEVENT
END:VCALENDAR