BEGIN:VCALENDAR
VERSION:2.0
PRODID:-//Spółdzielnia Mieszkaniowa Osiedle Młodych - ECPv5.16.4//NONSGML v1.0//EN
CALSCALE:GREGORIAN
METHOD:PUBLISH
X-WR-CALNAME:Spółdzielnia Mieszkaniowa Osiedle Młodych
X-ORIGINAL-URL:https://osiedlemlodych.pl
X-WR-CALDESC:Wydarzenia dla Spółdzielnia Mieszkaniowa Osiedle Młodych
BEGIN:VTIMEZONE
TZID:Europe/Warsaw
BEGIN:DAYLIGHT
TZOFFSETFROM:+0100
TZOFFSETTO:+0200
TZNAME:CEST
DTSTART:20220327T010000
END:DAYLIGHT
BEGIN:STANDARD
TZOFFSETFROM:+0200
TZOFFSETTO:+0100
TZNAME:CET
DTSTART:20221030T010000
END:STANDARD
END:VTIMEZONE
BEGIN:VEVENT
DTSTART;TZID=Europe/Warsaw:20220425T163000
DTEND;TZID=Europe/Warsaw:20220425T190000
DTSTAMP:20260422T092745
CREATED:20211004T124917Z
LAST-MODIFIED:20220316T163727Z
UID:31542-1650904200-1650913200@osiedlemlodych.pl
SUMMARY:Warsztaty psychologiczne dla dzieci i młodzieży – Projekt przyszłość-z zaangażowaniem w kierunku wartości
DESCRIPTION:Serdecznie zapraszamy na cykl warsztatów dla dzieci i młodzieży\, na których pragniemy dać Ci szansę na lepsze poznanie siebie. Mamy nadzieję\, że wychodząc po warsztacie\, odczujesz na własnej skórze\, że jesteś bogatszy nie tylko o nową wiedzę… ale przede wszystkim o praktyczne i pomocne narzędzia do radzenia sobie na co dzień. \nW życiu nie wszystko idzie zgodnie z naszym planem. Bo przecież wśród sukcesów zawsze pojawiają się gorsze chwile. Grunt to mieć umiejętności do podnoszenia się z nich i obracania ich w sukces. \nObalmy mity porażki i zacznijmy działać! \nPlanowanie swojej drogi życiowej to wyzwanie\, przed którym stoi młody człowiek. To jak sobie z tym poradzi zależy od narzędzi i umiejętności\, które posiada. Jak wybrać spośród tylu alternatyw? Skąd wiedzieć\, że wybrana ścieżka będzie dobra dla mnie? Przyszłość jest jak nowy nieznany świat. Natomiast planowanie może być jak plecak w który zapakujemy narzędzia pomocne do poruszania się po tym nowym świecie. Zatem planowanie to istotny punkt przed działaniem. Pozwala nam się przygotować tak by bezpiecznie i świadomie decydować o swojej drodze. Warsztat “Projekt przyszłość. Mój plan na siebie” uzbroi młodego człowieka w narzędzia pomocne na drodze planowania swojej przyszłości. \nNa warsztacie będziemy poruszać takie tematy jak:\n– jak zabrać się do planowania swojej przyszłości?\n– jak odkryć w sobie ciekawość do poszukiwania kierunku życia?\n– jakie są moje oczekiwania co do mojej przyszłości?\n– jak kreować swoją drogę życiową tak by była zgodna z tym co jest dla nas ważne?\nW skrócie\, postaramy się wesprzeć uczestników w poszukiwaniu ich własnej ścieżki\nprowadzącej do celu zgodnego z tym co dla nich w życiu ważne. \nDo udziału w warsztatach zapraszamy dzieci i młodzież w wieku 9-15 lat: \n\n\n*  godz. 16:30 – 17:30 (grupa 1)\n \n*  godz. 18:00 – 19:00 (grupa 2)\n \n  \nRezerwacji miejsc można dokonać telefonicznie (tel. 61 877 78 42) lub mailowo (dkorlegniazdo@gmail.com). \n  \nOrganizatorami warsztatów są Ratajskie Centrum Kultury oraz Dom Kultury „Orle Gniazdo”. Dofinansowano z środków budżetowych Miasta Poznania #poznanwspiera
URL:https://osiedlemlodych.pl/wydarzenia/warsztaty-psychologiczne-dla-dzieci-i-mlodziezy-projekt-przyszlosc-moj-plan-na-siebie/
LOCATION:Dom Kultury „Orle Gniazdo”\, os. Lecha 43\, Poznań\, Wielkopolskie\, 61-294\, Polska
CATEGORIES:Orle Gniazdo
ATTACH;FMTTYPE=image/webp:https://osiedlemlodych.pl/wp-content/uploads/2021/10/widok-z-gory-na-kolor-rozowy-dlugopis-do-pisania-planu-i-otwarty-notatnik-spiralny-na-szarym-tle-piasku-179666-20012.webp
END:VEVENT
END:VCALENDAR