BEGIN:VCALENDAR
VERSION:2.0
PRODID:-//Spółdzielnia Mieszkaniowa Osiedle Młodych - ECPv5.16.4//NONSGML v1.0//EN
CALSCALE:GREGORIAN
METHOD:PUBLISH
X-WR-CALNAME:Spółdzielnia Mieszkaniowa Osiedle Młodych
X-ORIGINAL-URL:https://osiedlemlodych.pl
X-WR-CALDESC:Wydarzenia dla Spółdzielnia Mieszkaniowa Osiedle Młodych
BEGIN:VTIMEZONE
TZID:Europe/Warsaw
BEGIN:DAYLIGHT
TZOFFSETFROM:+0100
TZOFFSETTO:+0200
TZNAME:CEST
DTSTART:20220327T010000
END:DAYLIGHT
BEGIN:STANDARD
TZOFFSETFROM:+0200
TZOFFSETTO:+0100
TZNAME:CET
DTSTART:20221030T010000
END:STANDARD
END:VTIMEZONE
BEGIN:VEVENT
DTSTART;TZID=Europe/Warsaw:20220321T163000
DTEND;TZID=Europe/Warsaw:20220321T190000
DTSTAMP:20260422T090508
CREATED:20220302T173344Z
LAST-MODIFIED:20220316T163710Z
UID:33526-1647880200-1647889200@osiedlemlodych.pl
SUMMARY:Warsztaty psychologiczne dla dzieci i młodzieży – Twoja nawigacja wśród emocji
DESCRIPTION:Serdecznie zapraszamy na cykl warsztatów dla dzieci i młodzieży\, na których pragniemy dać Ci szansę na lepsze poznanie siebie. Mamy nadzieję\, że wychodząc po warsztacie\, odczujesz na własnej skórze\, że jesteś bogatszy nie tylko o nową wiedzę… ale przede wszystkim o praktyczne i pomocne narzędzia do radzenia sobie na co dzień. \nW życiu nie wszystko idzie zgodnie z naszym planem. Bo przecież wśród sukcesów zawsze pojawiają się gorsze chwile. Grunt to mieć umiejętności do podnoszenia się z nich i obracania ich w sukces. \nObalmy mity porażki i zacznijmy działać! \nKażdy z nas odczuwa emocje\, każdego dnia\, jednak nie zawsze potrafimy sobie z nimi poradzić. \nCzym są emocje? \nJaka jest ich rola w naszym życiu? \nDlaczego są tak ważne w relacjach z innymi ludźmi? Po co nam w ogóle emocje? \nWarsztat „Twoja nawigacja wśród emocji” odpowie na te ważne pytania. \nNa warsztacie zajmiemy się kwestiami takimi jak: skąd się biorą emocje? Po co emocje są\, pomagają nam czy przeszkadzają? Objawy emocji\, czyli po czym poznam jaką emocję przeżywam\, jak to można zauważyć u innych ludzi oraz radzenie sobie z emocjami\, czyli co robić\, jak się zachować\, gdy pojawiają się emocje dla nas trudne i przyjemne. \nTo wszystko wraz z masą praktycznych ćwiczeń i wskazówek na warsztacie. Postaramy się wspólnie stworzyć nawigację po świecie emocji. Wszystko po to by Tobie było łatwiej poruszać się po swoim wewnętrznym świecie. \nDo udziału w warsztatach zapraszamy dzieci i młodzież w wieku 9-15 lat: \n* godz. 16:30 – 17:30 (grupa 1)\n \n* godz. 18:00 – 19:30 (grupa 2)\n \n  \nRezerwacji miejsc można dokonać telefonicznie (tel. 61 877 78 42) lub mailowo (dkorlegniazdo@gmail.com). \n  \nOrganizatorami warsztatów są Ratajskie Centrum Kultury oraz Dom Kultury „Orle Gniazdo”. Dofinansowano z środków budżetowych Miasta Poznania #poznanwspiera
URL:https://osiedlemlodych.pl/wydarzenia/warsztaty-psychologiczne-dla-dzieci-i-mlodziezy-twoja-nawigacja-wsrod-emocji-2/
LOCATION:Dom Kultury „Orle Gniazdo”\, os. Lecha 43\, Poznań\, Wielkopolskie\, 61-294\, Polska
CATEGORIES:Orle Gniazdo
ATTACH;FMTTYPE=image/webp:https://osiedlemlodych.pl/wp-content/uploads/2022/03/usmiechniety-psycholog-pokazuje-szczesliwa-i-smutna-emocje-stawia-karty-dziewczyna-dziecka-23-2148026262.webp
END:VEVENT
END:VCALENDAR