BEGIN:VCALENDAR
VERSION:2.0
PRODID:-//Spółdzielnia Mieszkaniowa Osiedle Młodych - ECPv5.16.4//NONSGML v1.0//EN
CALSCALE:GREGORIAN
METHOD:PUBLISH
X-WR-CALNAME:Spółdzielnia Mieszkaniowa Osiedle Młodych
X-ORIGINAL-URL:https://osiedlemlodych.pl
X-WR-CALDESC:Wydarzenia dla Spółdzielnia Mieszkaniowa Osiedle Młodych
BEGIN:VTIMEZONE
TZID:Europe/Warsaw
BEGIN:DAYLIGHT
TZOFFSETFROM:+0100
TZOFFSETTO:+0200
TZNAME:CEST
DTSTART:20220327T010000
END:DAYLIGHT
BEGIN:STANDARD
TZOFFSETFROM:+0200
TZOFFSETTO:+0100
TZNAME:CET
DTSTART:20221030T010000
END:STANDARD
END:VTIMEZONE
BEGIN:VEVENT
DTSTART;TZID=Europe/Warsaw:20221210T110000
DTEND;TZID=Europe/Warsaw:20221210T130000
DTSTAMP:20260421T194509
CREATED:20221130T085104Z
LAST-MODIFIED:20221130T085804Z
UID:37630-1670670000-1670677200@osiedlemlodych.pl
SUMMARY:Warsztaty taneczne dla młodzieży w ramach KOMBO KULTURA
DESCRIPTION:Zapraszamy dziewczyny i chłopaków (12-16 lat) na warsztaty taneczne z Pauliną Wieczorek (Centrum Tańca Power-Dance).\n2-godzinne zajęcia są bezpłatne – dofinansowane z budżetu Miasta Poznania\, organizowane przez Ratajskie Centrum Kultury w ramach projektu KOMBO KULTURA. \nObowiązują zapisy poprzez formularz https://forms.gle/Qbkt8i58WG98bhPS8\nlub telefonicznie 61 8770 151.
URL:https://osiedlemlodych.pl/wydarzenia/warsztaty-taneczne-dla-mlodziezy-w-ramach-kombo-kultura/
LOCATION:Dom Kultury „Jędruś”\, os. Armii Krajowej 101
CATEGORIES:DOMY KULTURY,Jędruś
ATTACH;FMTTYPE=image/jpeg:https://osiedlemlodych.pl/wp-content/uploads/2022/11/warsztaty-tan-kk.jpg
END:VEVENT
END:VCALENDAR