BEGIN:VCALENDAR
VERSION:2.0
PRODID:-//Spółdzielnia Mieszkaniowa Osiedle Młodych - ECPv5.16.4//NONSGML v1.0//EN
CALSCALE:GREGORIAN
METHOD:PUBLISH
X-WR-CALNAME:Spółdzielnia Mieszkaniowa Osiedle Młodych
X-ORIGINAL-URL:https://osiedlemlodych.pl
X-WR-CALDESC:Wydarzenia dla Spółdzielnia Mieszkaniowa Osiedle Młodych
BEGIN:VTIMEZONE
TZID:Europe/Warsaw
BEGIN:DAYLIGHT
TZOFFSETFROM:+0100
TZOFFSETTO:+0200
TZNAME:CEST
DTSTART:20220327T010000
END:DAYLIGHT
BEGIN:STANDARD
TZOFFSETFROM:+0200
TZOFFSETTO:+0100
TZNAME:CET
DTSTART:20221030T010000
END:STANDARD
END:VTIMEZONE
BEGIN:VEVENT
DTSTART;TZID=Europe/Warsaw:20220426T150000
DTEND;TZID=Europe/Warsaw:20220426T163000
DTSTAMP:20260422T034745
CREATED:20220314T164316Z
LAST-MODIFIED:20220315T102001Z
UID:33725-1650985200-1650990600@osiedlemlodych.pl
SUMMARY:Warsztaty teatralne dla seniorów - BLIŻEJ KULTURY. BLIŻEJ SIEBIE
DESCRIPTION:Cykliczne warsztaty teatralne dla seniorów. Stała grupa seniorów wraz z reżyserem oraz aktorami z Asz.Teatru przejdzie na warsztatach przez wszystkie etapy tworzenia spektaklu teatralnego – od przygotowania scenariusza\, przez podział ról\, przeprowadzanie prób teatralnych\, po przygotowanie scenografii itd. Projekt zwieńczy wystawienie spektaklu\, którego odbiorcami również będą seniorzy.\nZajęcia będą odbywały się w wtorki w kwietniu oraz maju w godzinach 15:00-16:30 w DK „Na Pięterku”. \nUdział w warsztatach jest bezpłatny.\nPrzyjmujemy osoby pow. 60 r.ż.\nLiczba miejsc jest ograniczona!\nO przyjęciu do grupy decyduje kolejność zgłoszeń. Na rezerwacje czekamy od 14 do 31 marca.\n\nZgłoszenia przyjmujemy:\n telefonicznie: 61 8796 311\n mailowo: napieterku@osiedlemlodych.pl\n poprzez wiadomość prywatną na Facebooku: https://www.facebook.com/DKNaPieterku\noraz\n osobiście w biurze DK „Na Pięterku” (poniedziałek-piątek\, godz.15:00-20:00).\nWydarzenie odbędzie się w ramach cyklu „BLIŻEJ KULTURY. BLIŻEJ SIEBIE. EDYCJA 5”. \nOrganizatorami wydarzenia są Ratajskie Centrum Kultury oraz Dom Kultury „Na Pięterku”. Dofinansowano z środków budżetowych Miasta Poznania #poznanwspiera
URL:https://osiedlemlodych.pl/wydarzenia/warsztaty-teatralne-dla-seniorow-4/
LOCATION:DK „Na Pięterku”\, os. Orła Białego 5\, Poznań
CATEGORIES:Na pięterku
ATTACH;FMTTYPE=image/jpeg:https://osiedlemlodych.pl/wp-content/uploads/2022/03/yiran-ding-tmvsimvv7va-unsplash.jpg
END:VEVENT
END:VCALENDAR