BEGIN:VCALENDAR
VERSION:2.0
PRODID:-//Spółdzielnia Mieszkaniowa Osiedle Młodych - ECPv5.16.4//NONSGML v1.0//EN
CALSCALE:GREGORIAN
METHOD:PUBLISH
X-WR-CALNAME:Spółdzielnia Mieszkaniowa Osiedle Młodych
X-ORIGINAL-URL:https://osiedlemlodych.pl
X-WR-CALDESC:Wydarzenia dla Spółdzielnia Mieszkaniowa Osiedle Młodych
BEGIN:VTIMEZONE
TZID:Europe/Warsaw
BEGIN:DAYLIGHT
TZOFFSETFROM:+0100
TZOFFSETTO:+0200
TZNAME:CEST
DTSTART:20240331T010000
END:DAYLIGHT
BEGIN:STANDARD
TZOFFSETFROM:+0200
TZOFFSETTO:+0100
TZNAME:CET
DTSTART:20241027T010000
END:STANDARD
END:VTIMEZONE
BEGIN:VEVENT
DTSTART;TZID=Europe/Warsaw:20240304T173000
DTEND;TZID=Europe/Warsaw:20240304T190000
DTSTAMP:20260421T224248
CREATED:20240226T190042Z
LAST-MODIFIED:20240226T190417Z
UID:45281-1709573400-1709578800@osiedlemlodych.pl
SUMMARY:Warsztaty tworzenia budek lęgowych dla ptaków
DESCRIPTION:Ratajska Kawiarenka Naprawcza to najnowsze przedsięwzięcie ekologiczne zainicjowane przez Ratajskie Centrum Kultury przy współpracy z Fundacją Veolia.\nJednym z działań w ramach tego cyklu będą warsztaty tworzenia budek lęgowych dla ptaków i miniwykład o ptakach miejskich – o świadomej pomocy naturze w Domu Kultury „Jędruś”. Zapraszamy całe rodziny! \nUdział jest bezpłatny\, obowiązują zapisy telefoniczne lub mailowe. Ilość miejsc ograniczona.
URL:https://osiedlemlodych.pl/wydarzenia/warsztaty-tworzenia-budek-legowych-dla-ptakow/
LOCATION:Dom Kultury „Jędruś”\, os. Armii Krajowej 101\, Poznań\, Wielkopolskie\, 61-381\, Polska
CATEGORIES:DOMY KULTURY,Jędruś
ATTACH;FMTTYPE=image/jpeg:https://osiedlemlodych.pl/wp-content/uploads/2024/02/blue-tits-1371236.jpg
END:VEVENT
END:VCALENDAR