BEGIN:VCALENDAR
VERSION:2.0
PRODID:-//Spółdzielnia Mieszkaniowa Osiedle Młodych - ECPv5.16.4//NONSGML v1.0//EN
CALSCALE:GREGORIAN
METHOD:PUBLISH
X-WR-CALNAME:Spółdzielnia Mieszkaniowa Osiedle Młodych
X-ORIGINAL-URL:https://osiedlemlodych.pl
X-WR-CALDESC:Wydarzenia dla Spółdzielnia Mieszkaniowa Osiedle Młodych
BEGIN:VTIMEZONE
TZID:Europe/Warsaw
BEGIN:DAYLIGHT
TZOFFSETFROM:+0100
TZOFFSETTO:+0200
TZNAME:CEST
DTSTART:20230326T010000
END:DAYLIGHT
BEGIN:STANDARD
TZOFFSETFROM:+0200
TZOFFSETTO:+0100
TZNAME:CET
DTSTART:20231029T010000
END:STANDARD
END:VTIMEZONE
BEGIN:VEVENT
DTSTART;TZID=Europe/Warsaw:20230522T163000
DTEND;TZID=Europe/Warsaw:20230522T180000
DTSTAMP:20260422T070238
CREATED:20230510T161924Z
LAST-MODIFIED:20230510T161924Z
UID:40242-1684773000-1684778400@osiedlemlodych.pl
SUMMARY:Warsztaty z okazji Dnia Mamy
DESCRIPTION:Podczas spotkania wspólnie stworzymy piękny las w słoiku\, specjalnie dla Mamy. Gwarantujemy kreatywnie spędzony czas oraz miłą\, rodzinną atmosferę! \nKOSZT: \n50 zł (dorosły + dziecko) \nZapisy telefoniczne lub osobiste.\nBiuro DK czynne:\nOd poniedziałku do czwartku 14.00 – 20.00\nPiątki 11.00 – 18.00 \nLICZBA MIEJSC OGRANICZONA!
URL:https://osiedlemlodych.pl/wydarzenia/warsztaty-z-okazji-dnia-mamy/
LOCATION:Dom Kultury „Jagiellonka”
CATEGORIES:Jagiellonka
ATTACH;FMTTYPE=image/jpeg:https://osiedlemlodych.pl/wp-content/uploads/2023/05/dsc-0016-1.jpg
END:VEVENT
END:VCALENDAR