BEGIN:VCALENDAR
VERSION:2.0
PRODID:-//Spółdzielnia Mieszkaniowa Osiedle Młodych - ECPv5.16.4//NONSGML v1.0//EN
CALSCALE:GREGORIAN
METHOD:PUBLISH
X-WR-CALNAME:Spółdzielnia Mieszkaniowa Osiedle Młodych
X-ORIGINAL-URL:https://osiedlemlodych.pl
X-WR-CALDESC:Wydarzenia dla Spółdzielnia Mieszkaniowa Osiedle Młodych
BEGIN:VTIMEZONE
TZID:Europe/Warsaw
BEGIN:DAYLIGHT
TZOFFSETFROM:+0100
TZOFFSETTO:+0200
TZNAME:CEST
DTSTART:20250330T010000
END:DAYLIGHT
BEGIN:STANDARD
TZOFFSETFROM:+0200
TZOFFSETTO:+0100
TZNAME:CET
DTSTART:20251026T010000
END:STANDARD
END:VTIMEZONE
BEGIN:VEVENT
DTSTART;TZID=Europe/Warsaw:20251205T171500
DTEND;TZID=Europe/Warsaw:20251205T171500
DTSTAMP:20260421T193232
CREATED:20251107T182904Z
LAST-MODIFIED:20251107T182904Z
UID:53740-1764954900-1764954900@osiedlemlodych.pl
SUMMARY:Wełną utkane - warsztaty dla dorosłych
DESCRIPTION:Zapraszamy dorosłych na kreatywne warsztaty\, podczas których stworzymy niepowtarzalne zimowe lub świąteczne obrazki z wełny czesankowej na tamborku. To doskonała okazja\, by poznać technikę „malowania wełną”\, zrelaksować się i własnoręcznie wykonać wyjątkową dekorację lub prezent dla bliskiej osoby. \nW przyjaznej atmosferze\, krok po kroku\, poprowadzimy Cię przez proces tworzenia – nie musisz mieć wcześniejszego doświadczenia. \nWarsztaty prowadzi Monika Łęga\nZapisy: tel. 727 923 951\nKoszt: 80 zł
URL:https://osiedlemlodych.pl/wydarzenia/welna-utkane-warsztaty-dla-doroslych/
LOCATION:DK „Polan Sto”
CATEGORIES:Polan Sto
ATTACH;FMTTYPE=image/png:https://osiedlemlodych.pl/wp-content/uploads/2025/11/zdjecie-strona75.png
END:VEVENT
END:VCALENDAR