BEGIN:VCALENDAR
VERSION:2.0
PRODID:-//Spółdzielnia Mieszkaniowa Osiedle Młodych - ECPv5.16.4//NONSGML v1.0//EN
CALSCALE:GREGORIAN
METHOD:PUBLISH
X-WR-CALNAME:Spółdzielnia Mieszkaniowa Osiedle Młodych
X-ORIGINAL-URL:https://osiedlemlodych.pl
X-WR-CALDESC:Wydarzenia dla Spółdzielnia Mieszkaniowa Osiedle Młodych
BEGIN:VTIMEZONE
TZID:Europe/Warsaw
BEGIN:DAYLIGHT
TZOFFSETFROM:+0100
TZOFFSETTO:+0200
TZNAME:CEST
DTSTART:20250330T010000
END:DAYLIGHT
BEGIN:STANDARD
TZOFFSETFROM:+0200
TZOFFSETTO:+0100
TZNAME:CET
DTSTART:20251026T010000
END:STANDARD
END:VTIMEZONE
BEGIN:VEVENT
DTSTART;TZID=Europe/Warsaw:20250306T163000
DTEND;TZID=Europe/Warsaw:20250306T180000
DTSTAMP:20260423T003006
CREATED:20250210T154035Z
LAST-MODIFIED:20250225T140158Z
UID:49979-1741278600-1741284000@osiedlemlodych.pl
SUMMARY:Wernisaż i spotkanie autorskie Bożeny Dziurdzy
DESCRIPTION:Zapraszamy na spotkanie autorskie z Bożeną Dziurdzą\, autorką książki „Gwara i zwyczaje wsi Bucz oraz okolic. Ocalić od zapomnienia.”. \nInspiracją do stworzenia książki była praca magisterska\, którą pani Bożena przygotowywała na Uniwersytecie Adama Mickiewicza w Poznaniu. Wynikiem tej pracy był słownik gwary Bucza – pierwsze kroki w dokumentowaniu historii i tradycji tej wsi. Książka „Gwara i zwyczaje wsi Bucz i okolic. Ocalić od zapomnienia.” powstała z myślą o młodym pokoleniu\, aby nie zapomniało o swoich korzeniach. \nPodczas spotkania będzie można usłyszeć fragmenty książki\, a uzupełnieniem wydarzenia będzie wernisaż prac artystycznych pani Bożeny\, ściśle związanych z tematyką wsi Bucz\, okolic oraz rodziny i zwierząt\, które odgrywają w jej życiu szczególną rolę. \n  \nWSTĘP WOLNY! \n  \nZdjęcie: https://gckib.org.pl/2024\,10\,gwara-i-zwyczaje-wsi-bucz-oraz-okolic-spotkanie-autorskie-z-bozena-dziurdza/
URL:https://osiedlemlodych.pl/wydarzenia/wernisaz-i-spotkanie-autorskie-bozeny-dziurdzy/
LOCATION:Dom Kultury „Orle Gniazdo”\, os. Lecha 43\, Poznań\, Wielkopolskie\, 61-294\, Polska
CATEGORIES:Orle Gniazdo
ATTACH;FMTTYPE=image/jpeg:https://osiedlemlodych.pl/wp-content/uploads/2025/02/gckiborgpl-img-4085-scaled-1.jpeg
END:VEVENT
END:VCALENDAR