BEGIN:VCALENDAR
VERSION:2.0
PRODID:-//Spółdzielnia Mieszkaniowa Osiedle Młodych - ECPv5.16.4//NONSGML v1.0//EN
CALSCALE:GREGORIAN
METHOD:PUBLISH
X-WR-CALNAME:Spółdzielnia Mieszkaniowa Osiedle Młodych
X-ORIGINAL-URL:https://osiedlemlodych.pl
X-WR-CALDESC:Wydarzenia dla Spółdzielnia Mieszkaniowa Osiedle Młodych
BEGIN:VTIMEZONE
TZID:Europe/Warsaw
BEGIN:DAYLIGHT
TZOFFSETFROM:+0100
TZOFFSETTO:+0200
TZNAME:CEST
DTSTART:20220327T010000
END:DAYLIGHT
BEGIN:STANDARD
TZOFFSETFROM:+0200
TZOFFSETTO:+0100
TZNAME:CET
DTSTART:20221030T010000
END:STANDARD
END:VTIMEZONE
BEGIN:VEVENT
DTSTART;TZID=Europe/Warsaw:20220408T170000
DTEND;TZID=Europe/Warsaw:20220408T170000
DTSTAMP:20260421T224850
CREATED:20220322T170344Z
LAST-MODIFIED:20220322T170344Z
UID:33876-1649437200-1649437200@osiedlemlodych.pl
SUMMARY:Wieczór poezji - Switłana Bresławska\, Вечір поезії - Світлана Бреславська
DESCRIPTION:Вечір поезії – Світлана Бреславська.\n„На лінії подиху”\nАвторська зустріч з поезією – польською і українською мовою. \nВхід безкоштовний \nSerdecznie zapraszamy na wieczór poezji Switłany Bresławskiej „Na linii oddechu” i spotkanie autorskie\, które odbędzie się zarówno w języku polskim\, jak i ukraińskim. \nSwitłana Bresławska \nUkraińska pisarka\, krytyk literacki\, tłumaczka. Prezes Oddziału Narodowego Związku Pisarzy Ukrainy w Iwano-Frankiwsku. \nLaureatka miejskiej nagrody im. Iwana Franki w dziedzinie poezji (2016) oraz Nagrody Literackiej im. Jurija Janowskiego w dziedzinie przekład (2018). W 2021 r. otrzymała odznakę honorową Związku Literatów Polskich. \nWstęp bezpłatny.
URL:https://osiedlemlodych.pl/wydarzenia/wieczor-poezji-switlana-breslawska-%d0%b2%d0%b5%d1%87%d1%96%d1%80-%d0%bf%d0%be%d0%b5%d0%b7%d1%96%d1%97-%d1%81%d0%b2%d1%96%d1%82%d0%bb%d0%b0%d0%bd%d0%b0-%d0%b1%d1%80%d0%b5%d1%81%d0%bb%d0%b0%d0%b2/
CATEGORIES:Polan Sto
ATTACH;FMTTYPE=image/jpeg:https://osiedlemlodych.pl/wp-content/uploads/2022/03/fotka-poetka.jpg
END:VEVENT
END:VCALENDAR