BEGIN:VCALENDAR
VERSION:2.0
PRODID:-//Spółdzielnia Mieszkaniowa Osiedle Młodych - ECPv5.16.4//NONSGML v1.0//EN
CALSCALE:GREGORIAN
METHOD:PUBLISH
X-WR-CALNAME:Spółdzielnia Mieszkaniowa Osiedle Młodych
X-ORIGINAL-URL:https://osiedlemlodych.pl
X-WR-CALDESC:Wydarzenia dla Spółdzielnia Mieszkaniowa Osiedle Młodych
BEGIN:VTIMEZONE
TZID:Europe/Warsaw
BEGIN:DAYLIGHT
TZOFFSETFROM:+0100
TZOFFSETTO:+0200
TZNAME:CEST
DTSTART:20230326T010000
END:DAYLIGHT
BEGIN:STANDARD
TZOFFSETFROM:+0200
TZOFFSETTO:+0100
TZNAME:CET
DTSTART:20231029T010000
END:STANDARD
END:VTIMEZONE
BEGIN:VEVENT
DTSTART;TZID=Europe/Warsaw:20230414T180000
DTEND;TZID=Europe/Warsaw:20230414T190000
DTSTAMP:20260422T033750
CREATED:20230324T171222Z
LAST-MODIFIED:20230324T171222Z
UID:39558-1681495200-1681498800@osiedlemlodych.pl
SUMMARY:Wiosenne impresje - wernisaż prac malarskich
DESCRIPTION:Zapraszamy na prezentację prac uczestniczek sekcji malarstwa z Domu Kultury „Jędruś”.
URL:https://osiedlemlodych.pl/wydarzenia/wiosenne-impresje-wernisaz-prac-malarskich/
LOCATION:Dom Kultury „Jędruś”\, os. Armii Krajowej 101\, Poznań\, Wielkopolskie\, 61-381\, Polska
CATEGORIES:DOMY KULTURY,Jędruś
ATTACH;FMTTYPE=image/jpeg:https://osiedlemlodych.pl/wp-content/uploads/2023/03/img20230324155838.jpg
END:VEVENT
END:VCALENDAR