BEGIN:VCALENDAR
VERSION:2.0
PRODID:-//Spółdzielnia Mieszkaniowa Osiedle Młodych - ECPv5.16.4//NONSGML v1.0//EN
CALSCALE:GREGORIAN
METHOD:PUBLISH
X-WR-CALNAME:Spółdzielnia Mieszkaniowa Osiedle Młodych
X-ORIGINAL-URL:https://osiedlemlodych.pl
X-WR-CALDESC:Wydarzenia dla Spółdzielnia Mieszkaniowa Osiedle Młodych
BEGIN:VTIMEZONE
TZID:Europe/Warsaw
BEGIN:DAYLIGHT
TZOFFSETFROM:+0100
TZOFFSETTO:+0200
TZNAME:CEST
DTSTART:20230326T010000
END:DAYLIGHT
BEGIN:STANDARD
TZOFFSETFROM:+0200
TZOFFSETTO:+0100
TZNAME:CET
DTSTART:20231029T010000
END:STANDARD
END:VTIMEZONE
BEGIN:VEVENT
DTSTART;TZID=Europe/Warsaw:20231025T090000
DTEND;TZID=Europe/Warsaw:20231025T170000
DTSTAMP:20260421T180620
CREATED:20231011T103243Z
LAST-MODIFIED:20231014T165953Z
UID:43205-1698224400-1698253200@osiedlemlodych.pl
SUMMARY:Wycieczka dla Seniorów do Kawki
DESCRIPTION:Serdecznie zapraszamy wszystkich seniorów na wycieczkę do Kawki! \nKawka to Centrum Turystyki i Edukacji w Konarskim koło Kórnika. \nW programie:\n– zwiedzanie parku w Rogalinie\n– zagroda ze zwierzętami\n– warsztaty malowania na szkle\n– ciasto\, bigos\, kaszanka\, grill \nLiczba miejsc jest ograniczona\, obowiązują zapisy pod numerem: 504 387 509 \nW kwocie 90zł zawiera się także obsługa przewodnika\, przejazd autokarem i ubezpieczenie. \nOrganizatorami wycieczki są Klub „Cybinka” i Rada Osiedla Warszawskie-Pomet-Maltańskie. \n  \nBardzo polecamy! 💟
URL:https://osiedlemlodych.pl/wydarzenia/wycieczka-dla-seniorow-do-kawki/
LOCATION:KAWKA – Centrum Turystyki i Edukacji w Konarskim\, ul. Długa 40\, Konarskie\, Wielkopolskie\, 62-035\, Poland
CATEGORIES:Klub Cybinka
ATTACH;FMTTYPE=image/jpeg:https://osiedlemlodych.pl/wp-content/uploads/2023/10/wycieczka-do-kawki-seniorzy-konarskie-kafelek-na-www.jpg
ORGANIZER;CN="Klub%20%22Cybinka%22":MAILTO:cybinka@osiedlemlodych.pl
END:VEVENT
END:VCALENDAR