BEGIN:VCALENDAR
VERSION:2.0
PRODID:-//Spółdzielnia Mieszkaniowa Osiedle Młodych - ECPv5.16.4//NONSGML v1.0//EN
CALSCALE:GREGORIAN
METHOD:PUBLISH
X-WR-CALNAME:Spółdzielnia Mieszkaniowa Osiedle Młodych
X-ORIGINAL-URL:https://osiedlemlodych.pl
X-WR-CALDESC:Wydarzenia dla Spółdzielnia Mieszkaniowa Osiedle Młodych
BEGIN:VTIMEZONE
TZID:Europe/Warsaw
BEGIN:DAYLIGHT
TZOFFSETFROM:+0100
TZOFFSETTO:+0200
TZNAME:CEST
DTSTART:20230326T010000
END:DAYLIGHT
BEGIN:STANDARD
TZOFFSETFROM:+0200
TZOFFSETTO:+0100
TZNAME:CET
DTSTART:20231029T010000
END:STANDARD
END:VTIMEZONE
BEGIN:VEVENT
DTSTART;TZID=Europe/Warsaw:20230426T083000
DTEND;TZID=Europe/Warsaw:20230426T190000
DTSTAMP:20260421T180629
CREATED:20230323T104442Z
LAST-MODIFIED:20230328T173610Z
UID:39521-1682497800-1682535600@osiedlemlodych.pl
SUMMARY:Wycieczka "Śladami Mickiewicza i Makłowicza"
DESCRIPTION:Wycieczka autokarowa śladami Mickiewicza i Makłowicza \nW programie:  \n\nMuzeum im. A. Mickiewicza w Śmiełowie\,\nzwiedzanie miasta Pyzdry śladami R. Makłowicza\,\nkwitnące magnolie w Arboretum Kórnickim.\n\nW cenie: \n\nprzejazd autokarem\,\nubezpiecznie\,\nprzewodnik\,\nbilety wstępu\,\nobiad i kawa.\n\nZapisy telefoniczne lub osobiste\, od poniedziałku do piątku w godzinach 14.00 – 19.00.\nos. Jagiellońskie 120 / nr tel.: 61 877 51 64 \nLiczba miejsc ograniczona!
URL:https://osiedlemlodych.pl/wydarzenia/wycieczka-sladami-mickiewicza-i-maklowicza/
LOCATION:Śmiełów
CATEGORIES:Jagiellonka
ATTACH;FMTTYPE=image/png:https://osiedlemlodych.pl/wp-content/uploads/2023/03/wycieczka-smielow.png
END:VEVENT
END:VCALENDAR