BEGIN:VCALENDAR
VERSION:2.0
PRODID:-//Spółdzielnia Mieszkaniowa Osiedle Młodych - ECPv5.16.4//NONSGML v1.0//EN
CALSCALE:GREGORIAN
METHOD:PUBLISH
X-WR-CALNAME:Spółdzielnia Mieszkaniowa Osiedle Młodych
X-ORIGINAL-URL:https://osiedlemlodych.pl
X-WR-CALDESC:Wydarzenia dla Spółdzielnia Mieszkaniowa Osiedle Młodych
BEGIN:VTIMEZONE
TZID:Europe/Warsaw
BEGIN:DAYLIGHT
TZOFFSETFROM:+0100
TZOFFSETTO:+0200
TZNAME:CEST
DTSTART:20220327T010000
END:DAYLIGHT
BEGIN:STANDARD
TZOFFSETFROM:+0200
TZOFFSETTO:+0100
TZNAME:CET
DTSTART:20221030T010000
END:STANDARD
END:VTIMEZONE
BEGIN:VEVENT
DTSTART;TZID=Europe/Warsaw:20220517T090000
DTEND;TZID=Europe/Warsaw:20220517T180000
DTSTAMP:20260421T145544
CREATED:20220317T184948Z
LAST-MODIFIED:20220325T133137Z
UID:33831-1652778000-1652810400@osiedlemlodych.pl
SUMMARY:Wycieczka "Szlakiem Edwarda Raczyńskiego"
DESCRIPTION:W programie wycieczki: \n– wyprawa do Rogalina i Zaniemyśla\,\n– zwiedzanie pałacu i galerii malarstwa z przewodnikiem\,\n– spacer po parku słynnych dębów i rozlewiskach Warty\,\n– przeprawa na wyspę Edwarda. \nW cenie: \n– bilety wstępu\, przejazd autokarem\, ubezpieczenie\, opieka pilota/przewodnika\, obiad. \nI wpłata 50 zł (do 31.03)\nII wpłata 75 zł (do 10.05) \nWpłaty dokonać można w DK „Jagiellonka” codziennie w godzinach 14.00 – 20.00.
URL:https://osiedlemlodych.pl/wydarzenia/wycieczka-szlakiem-edwarda-raczynskiego/
LOCATION:Rogalin
CATEGORIES:Jagiellonka
ATTACH;FMTTYPE=image/jpeg:https://osiedlemlodych.pl/wp-content/uploads/2022/03/rogalin.jpg
END:VEVENT
END:VCALENDAR