BEGIN:VCALENDAR
VERSION:2.0
PRODID:-//Spółdzielnia Mieszkaniowa Osiedle Młodych - ECPv5.16.4//NONSGML v1.0//EN
CALSCALE:GREGORIAN
METHOD:PUBLISH
X-WR-CALNAME:Spółdzielnia Mieszkaniowa Osiedle Młodych
X-ORIGINAL-URL:https://osiedlemlodych.pl
X-WR-CALDESC:Wydarzenia dla Spółdzielnia Mieszkaniowa Osiedle Młodych
BEGIN:VTIMEZONE
TZID:Europe/Warsaw
BEGIN:DAYLIGHT
TZOFFSETFROM:+0100
TZOFFSETTO:+0200
TZNAME:CEST
DTSTART:20180325T010000
END:DAYLIGHT
BEGIN:STANDARD
TZOFFSETFROM:+0200
TZOFFSETTO:+0100
TZNAME:CET
DTSTART:20181028T010000
END:STANDARD
END:VTIMEZONE
BEGIN:VEVENT
DTSTART;TZID=Europe/Warsaw:20181215T100000
DTEND;TZID=Europe/Warsaw:20181215T130000
DTSTAMP:20260425T043534
CREATED:20181026T154809Z
LAST-MODIFIED:20181212T173440Z
UID:18955-1544868000-1544878800@osiedlemlodych.pl
SUMMARY:XXIII KONKURS FORTEPIANOWY DLA DZIECI I MŁODZIEŻY
DESCRIPTION:UWAGA! Decyzją komisji jurorów z powodu niewystarczającej liczby zgłoszeń konkurs został odwołany.  \nXXIII WIELKOPOLSKI KONKURS FORTEPIANOWY DLA DZIECI I MŁODZIEŻY:\nUCZNIÓW OGNISK MUZYCZNYCH I UCZNIÓW POBIERAJĄCYCH NAUKĘ W SPOSÓB NIEZORGANIZOWANY\n\nR E G U L A M I N \nI. ORGANIZATORZY:\nRatajskie Centrum Kultury\, os. Piastowskie 16 61-148 Poznań\nSpółdzielnia Mieszkaniowa „Osiedle Młodych” w Poznaniu\nDom Kultury „Jędruś”\, Poznań\, os. Armii Krajowej 101\,\n\nII. CELE i ZAŁOŻENIA:\nPropagowanie muzyki wśród dzieci i młodzieży\, ujawnianie młodych talentów.\nUczestnicy zostaną podzieleni na kategorie:\na) w/g wieku\nI grupa – do 10 lat\nII grupa – 11 do 13 lat\nIII grupa – od 14 lat do 18 lat\nb) wg czasu pobierania nauki instrumentu \nIII. ORGANIZACJA KONKURSU MUZYCZNEGO:\nOtwarte przesłuchanie uczestników KONKURSU odbędzie się 15 grudnia 2018 r. w sali Domu Kultury „Jędruś” od godz. 10.00 (os. Armii Krajowej 101).\nZgłoszenia (skan wypełnionej karty – wzór do pobrania poniżej) i ewentualne pytania do 30.11.2018 proszę przesyłać na adres e-mail: jedrus@osiedlemlodych.pl\nOpłatę 20 zł należy uiścić do dnia 03.12.2018 przelewem na konto:\nSpółdzielnia Mieszkaniowa „Osiedle Młodych” w Poznaniu\,\nnr rach. 47 1020 4027 0000 1502 0035 4068\, tytułem:\nWielkopolski Konkurs Fortepianowy\, imię i nazwisko uczestnika.\nProszę o przesłanie potwierdzenia przelewu na adres: jedrus@osiedlemlodych.pl\nlub o kontakt tel. 61 8770 151\nZGŁOSZENIA NIEPOTWIERDZONE PRZELEWEM NIE WEZMĄ UDZIAŁU W KONKURSIE! \nIV. PROGRAM :\nKażdy uczestnik grający na fortepianie\, winien wykonać z pamięci\ndwa dowolnie wybrane utwory o zróżnicowanym charakterze\, wg realizowanego programu.\nUwaga! Czas trwania utworów Jury może skrócić. \nV. Po dokonaniu oceny\, Jury przyzna nagrody i wyróżnienia.\nVI. Decyzja Jury jest ostateczna.\nVII. Organizator zastrzega sobie prawo do odwołania konkursu\nlub łączenia poszczególnych kategorii w przypadku\nniewystarczającej liczby zgłoszeń.\nVIII. Organizator zastrzega sobie prawo do zmian w regulaminie. \nKARTA ZGŁOSZENIOWA DO POBRANIA :  \nkarta zgłoszeniowa 2018
URL:https://osiedlemlodych.pl/wydarzenia/xxiii-konkurs-fortepianowy-dla-dzieci-i-mlodziezy/
LOCATION:Dom Kultury „Jędruś”\, os. Armii Krajowej 101\, Poznań\, Wielkopolskie\, 61-381\, Polska
CATEGORIES:Jędruś
ATTACH;FMTTYPE=image/jpeg:https://osiedlemlodych.pl/wp-content/uploads/2018/10/piano-3000400__340.jpg
END:VEVENT
END:VCALENDAR