BEGIN:VCALENDAR
VERSION:2.0
PRODID:-//Spółdzielnia Mieszkaniowa Osiedle Młodych - ECPv5.16.4//NONSGML v1.0//EN
CALSCALE:GREGORIAN
METHOD:PUBLISH
X-WR-CALNAME:Spółdzielnia Mieszkaniowa Osiedle Młodych
X-ORIGINAL-URL:https://osiedlemlodych.pl
X-WR-CALDESC:Wydarzenia dla Spółdzielnia Mieszkaniowa Osiedle Młodych
BEGIN:VTIMEZONE
TZID:Europe/Warsaw
BEGIN:DAYLIGHT
TZOFFSETFROM:+0100
TZOFFSETTO:+0200
TZNAME:CEST
DTSTART:20250330T010000
END:DAYLIGHT
BEGIN:STANDARD
TZOFFSETFROM:+0200
TZOFFSETTO:+0100
TZNAME:CET
DTSTART:20251026T010000
END:STANDARD
END:VTIMEZONE
BEGIN:VEVENT
DTSTART;TZID=Europe/Warsaw:20251121T160000
DTEND;TZID=Europe/Warsaw:20251121T190000
DTSTAMP:20260422T111634
CREATED:20251015T170451Z
LAST-MODIFIED:20251015T170451Z
UID:53417-1763740800-1763751600@osiedlemlodych.pl
SUMMARY:XXVII Przegląd Piosenki z Myszką - soliści i duety
DESCRIPTION:Już 21 listopada Dom Kultury „Na Pięterku” rozbrzmi muzyką z dawnych lat! Mamy przyjemność zaprosić wszystkich solistów oraz duety na nasze coroczne wydarzenie „Przegląd Piosenki z Myszką”\, które w tym roku odbędzie się już 27 raz! \nCelem imprezy jest umożliwienie seniorom miłego i aktywnego spędzenia czasu wolnego oraz przypomnienie lubianych i popularnych szlagierów okresu międzywojennego\, przebojów operetkowych\, kabaretowych\, przyśpiewek ludowych\, piosenek folkloru miejskiego oraz innych  piosenek zapamiętanych z okresu młodości. \nW Przeglądzie mogą uczestniczyć soliści i duety niezwiązane profesjonalnie z ruchem artystycznym. Wykonawców można zgłaszać osobiście\, e-mailem lub telefonicznie w nieprzekraczalnym terminie do dnia 17.11.2025 r.  \nW piątek 21.11 o godz. 16:00 soliści oraz duety wystąpią w DK „Na Pięterku” – na osiedlu Orła Białego 5 w Poznaniu. \nDołączcie do nas\, aby wspólnie cieszyć się pięknem muzyki\, która przywraca cudowne wspomnienia. Niech to spotkanie będzie okazją do zobaczenia starych przyjaciół i nawiązania nowych znajomości. \nWejściówki dla osób\, które nie chcą występować\, ale chcą wziąć udział w wydarzeniu\, będą dostępne od 17 listopada w Domach Kultury „Na Pięterku” oraz „Jędruś”.
URL:https://osiedlemlodych.pl/wydarzenia/xxvii-przeglad-piosenki-z-myszka-solisci-i-duety/
LOCATION:Dom Kultury „Na Pięterku”\, os. Orła Białego 5\, Poznań\, Wielkopolska\, 61-251\, Poland
CATEGORIES:Na pięterku
ATTACH;FMTTYPE=image/jpeg:https://osiedlemlodych.pl/wp-content/uploads/2025/10/muszkamyszka.jpg
END:VEVENT
END:VCALENDAR