BEGIN:VCALENDAR
VERSION:2.0
PRODID:-//Spółdzielnia Mieszkaniowa Osiedle Młodych - ECPv5.16.4//NONSGML v1.0//EN
CALSCALE:GREGORIAN
METHOD:PUBLISH
X-WR-CALNAME:Spółdzielnia Mieszkaniowa Osiedle Młodych
X-ORIGINAL-URL:https://osiedlemlodych.pl
X-WR-CALDESC:Wydarzenia dla Spółdzielnia Mieszkaniowa Osiedle Młodych
BEGIN:VTIMEZONE
TZID:Europe/Warsaw
BEGIN:DAYLIGHT
TZOFFSETFROM:+0100
TZOFFSETTO:+0200
TZNAME:CEST
DTSTART:20250330T010000
END:DAYLIGHT
BEGIN:STANDARD
TZOFFSETFROM:+0200
TZOFFSETTO:+0100
TZNAME:CET
DTSTART:20251026T010000
END:STANDARD
BEGIN:DAYLIGHT
TZOFFSETFROM:+0100
TZOFFSETTO:+0200
TZNAME:CEST
DTSTART:20260329T010000
END:DAYLIGHT
BEGIN:STANDARD
TZOFFSETFROM:+0200
TZOFFSETTO:+0100
TZNAME:CET
DTSTART:20261025T010000
END:STANDARD
END:VTIMEZONE
BEGIN:VEVENT
DTSTART;TZID=Europe/Warsaw:20251231T200000
DTEND;TZID=Europe/Warsaw:20260101T040000
DTSTAMP:20260422T034557
CREATED:20241121T151655Z
LAST-MODIFIED:20251125T134719Z
UID:48955-1767211200-1767240000@osiedlemlodych.pl
SUMMARY:Zabawa sylwestrowa
DESCRIPTION:Restauracja „Trojka” serdecznie zaprasza na zabawę sylwestrową w Domu Kultury „Jędruś”!\nCzeka na Was mnóstwo atrakcji: pyszne\, bogate menu\, taneczne hity z playlisty DJ KRISa oraz emocjonująca loteria fantowa. \nPrzyjdźcie pożegnać stary rok w świetnym stylu! ✨🎉🥂\nSzczegółowe informacje można uzyskać pod numerami telefonów 618 618 772\, 603 247 286 oraz 605 553 701.\nRezerwacja miejsc oraz zakup biletów możliwe są tylko w Restauracji „Trojka”.
URL:https://osiedlemlodych.pl/wydarzenia/zabawa-sylwestrowa-2/
LOCATION:Dom Kultury „Jędruś”\, os. Armii Krajowej 101\, Poznań\, Wielkopolskie\, 61-381\, Polska
CATEGORIES:Jędruś
ATTACH;FMTTYPE=image/jpeg:https://osiedlemlodych.pl/wp-content/uploads/2023/11/sylwester.jpg
END:VEVENT
END:VCALENDAR